BEGIN:VCALENDAR
VERSION:2.0
PRODID:-//ChamberMaster//Event Calendar 2.0//EN
METHOD:PUBLISH
X-PUBLISHED-TTL:P3D
REFRESH-INTERVAL:P3D
CALSCALE:GREGORIAN
BEGIN:VEVENT
DTSTART:20221015T140000Z
DTEND:20221015T180000Z
X-MICROSOFT-CDO-ALLDAYEVENT:FALSE
SUMMARY:Women\, It Begins with Us.... A Women's Workshop-October 15\, 2022
DESCRIPTION:Women\, It Begins With Us\n\nA Women's Workshop\; Saturday\, October 15th\, 2022\n\nLet's come together to exchange and explore ways we can live joyful and healthy lives at this 4 hour workshop on Saturday\, October 15th from 9AM - 1PM. Join us for an inspirational\, educational and FUN workshop with women just like you!\n\nOur 4 hour workshop will include:\n\n\n	Welcome and opening with Dr. Denise Chranowski\n	A beginner's yoga and meditation session led by Tamara Peralez of Yoga with Tamera\n	Why strength matters led by Cherie Spinks\, owner of Fitsique Training\n	Jeanne Kelley will lead a workshop about finding value in all things. She has been a facilitator and workshop leader of Choices Seminars since 2008.\n	A light brunch\n	A take home art project led by local artists\, Sharen Chatterton and twin sister\, Karen Rester. We will be hand painting expressive art cards. Click here to learn more. This segment will last one hour.\n	Closing session on the Power of Presence and the Mastery of Mindfulness by Dr. Denise Chranowski\n	Breakout sessions to include shopping with local vendors for accessories\, jewelry\, purses\, etc. Cash or Cash Apps accepted.\n\n\nThe conference will begin at 9AM at the Aransas Pass Civic Center. Aransas Pass\, Texas is a coastal town known for boating\, kayaking\, bird watching\, fishing and more. We'll have an amazing uplifting day on Saturday leaving you plenty of time to continue on for a girl's weekend. Additional places to visit for your weekend include: Port Aransas\, known for its sandy white beaches and Rockport\, a neighboring coastal town known for it's amazing art galleries\, shopping\, wineries and restaurants.\n\nFor Friday night out of town guests\, you can find accommodations here. If you are travelling from out of town with a few friends\, consider this beautiful cottage that sleeps up to 7.\n\nWe'll also have a meet and greet cocktail reception on Friday night\, October 14th\, at 7PM. Location to be announced.\n\nYou simply don't want to miss this event.\n\nAt Women\, It Begins with Us\, we believe\n\nWhen women live into the best version of themselves\, not only are they better\, but so are the lives that they impact. While the seasons of a woman's life changes\, her need for joy\, meaning and fun do not.\n \n\n"I believe women want to lives lives that matter.\n\nOften\, however the constant busyness\, endless distractions and a general sense of complacency prevents us from living our best life.\n\nI created Women\, It Begins With Us\, to bring together women so that we can exchange and explore with one another how to live into our best lives. Personally\, I've discovered that while the chapters of my life have changed\, my need for meaning\, joy and FUN does not.\n\nWhen we women become our best version\, not only are our lives better\, but so too are our families and communities".  Dr. Denise
X-ALT-DESC;FMTTYPE=text/html:<h1 style="margin: 0px\; padding: 0px\; font-size: 32px\; line-height: 2.5rem\; letter-spacing: 0.75px\; color: rgb(57\, 54\, 79)\; font-family: &quot\;Neue Plak&quot\;\, -apple-system\, BlinkMacSystemFont\, Roboto\, &quot\;Helvetica Neue&quot\;\, Helvetica\, Tahoma\, Arial\, sans-serif\; background-color: rgb(255\, 255\, 255)\;">Women\, It Begins With Us</h1>\n\n<h2 style="margin: 0px\; padding: 10px 0px 0px\; color: rgb(30\, 10\, 60)\; font-size: 24px\; line-height: 2rem\; letter-spacing: 0.5px\; font-family: &quot\;Neue Plak&quot\;\, -apple-system\, BlinkMacSystemFont\, Roboto\, &quot\;Helvetica Neue&quot\;\, Helvetica\, Tahoma\, Arial\, sans-serif\; background-color: rgb(255\, 255\, 255)\;">A Women&#39\;s Workshop\; Saturday\, October 15th\, 2022</h2>\n\n<p style="margin: 0px\; padding: 10px 0px 0px\; color: rgb(111\, 114\, 135)\; font-size: 16px\; line-height: 1.5rem\; font-family: &quot\;Neue Plak&quot\;\, -apple-system\, BlinkMacSystemFont\, Roboto\, &quot\;Helvetica Neue&quot\;\, Helvetica\, Tahoma\, Arial\, sans-serif\; letter-spacing: 0.5px\; background-color: rgb(255\, 255\, 255)\;">Let&#39\;s come together to exchange and explore ways we can live joyful and healthy lives at this 4 hour workshop on Saturday\, October 15th from 9AM - 1PM. Join us for an inspirational\, educational and FUN workshop with women just like you!</p>\n\n<p style="margin: 0px\; padding: 10px 0px 0px\; color: rgb(111\, 114\, 135)\; font-size: 16px\; line-height: 1.5rem\; font-family: &quot\;Neue Plak&quot\;\, -apple-system\, BlinkMacSystemFont\, Roboto\, &quot\;Helvetica Neue&quot\;\, Helvetica\, Tahoma\, Arial\, sans-serif\; letter-spacing: 0.5px\; background-color: rgb(255\, 255\, 255)\;">Our 4 hour workshop will include:</p>\n\n<ul style="margin: 0px\; padding: 10px 0px 0px 2em\; list-style-position: initial\; list-style-image: initial\; color: rgb(111\, 114\, 135)\; font-size: 16px\; line-height: 1.5rem\; font-family: &quot\;Neue Plak&quot\;\, -apple-system\, BlinkMacSystemFont\, Roboto\, &quot\;Helvetica Neue&quot\;\, Helvetica\, Tahoma\, Arial\, sans-serif\; letter-spacing: 0.5px\; background-color: rgb(255\, 255\, 255)\;">\n	<li style="margin: 0px\; padding: 0px\;">Welcome and opening with&nbsp\;<a href="https://adosefromdrdenise.com/" rel="nofollow noopener noreferrer" style="text-decoration-line: none\; cursor: pointer\; background-color: transparent\; padding-top: 0px\;" target="_blank">Dr. Denise Chranowski</a></li>\n	<li style="margin: 0px\; padding: 5px 0px 0px\;">A beginner&#39\;s yoga and meditation session led by Tamara Peralez of&nbsp\;<a href="https://www.facebook.com/Yoga-with-Tamera-101103422139483/" rel="nofollow noopener noreferrer" style="text-decoration-line: none\; cursor: pointer\; background-color: transparent\; padding-top: 0px\;" target="_blank">Yoga with Tamera</a></li>\n	<li style="margin: 0px\; padding: 5px 0px 0px\;">Why strength matters led by Cherie Spinks\, owner of&nbsp\;<a href="https://www.fitsiquetraining.com/home" rel="nofollow noopener noreferrer" style="text-decoration-line: none\; cursor: pointer\; background-color: transparent\; padding-top: 0px\;" target="_blank">Fitsique Training</a></li>\n	<li style="margin: 0px\; padding: 5px 0px 0px\;">Jeanne Kelley will lead a workshop about finding value in all things. She has been a facilitator and workshop leader of<a href="https://choicesseminars.com/" rel="nofollow noopener noreferrer" style="text-decoration-line: none\; cursor: pointer\; background-color: transparent\; padding-top: 0px\;" target="_blank">&nbsp\;Choices Seminars</a>&nbsp\;since 2008.</li>\n	<li style="margin: 0px\; padding: 5px 0px 0px\;">A light brunch</li>\n	<li style="margin: 0px\; padding: 5px 0px 0px\;">A take home art project led by local artists\, Sharen Chatterton and twin sister\, Karen Rester. We will be hand painting expressive art cards.&nbsp\;<a href="https://www.rockportartcenter.com/classes-workshops-events/artcards" rel="nofollow noopener noreferrer" style="text-decoration-line: none\; cursor: pointer\; background-color: transparent\;" target="_blank">Click here to learn more</a>. This segment will last one hour.</li>\n	<li style="margin: 0px\; padding: 5px 0px 0px\;">Closing session on the Power of Presence and the Mastery of Mindfulness by Dr. Denise Chranowski</li>\n	<li style="margin: 0px\; padding: 5px 0px 0px\;">Breakout sessions to include shopping with local vendors for accessories\, jewelry\, purses\, etc. Cash or Cash Apps accepted.</li>\n</ul>\n\n<p style="margin: 0px\; padding: 10px 0px 0px\; color: rgb(111\, 114\, 135)\; font-size: 16px\; line-height: 1.5rem\; font-family: &quot\;Neue Plak&quot\;\, -apple-system\, BlinkMacSystemFont\, Roboto\, &quot\;Helvetica Neue&quot\;\, Helvetica\, Tahoma\, Arial\, sans-serif\; letter-spacing: 0.5px\; background-color: rgb(255\, 255\, 255)\;">The conference will begin at 9AM at the&nbsp\;<a href="https://aptx.gov/251/Civic-Center" rel="nofollow noopener noreferrer" style="text-decoration-line: none\; cursor: pointer\; background-color: transparent\; padding-top: 0px\;" target="_blank">Aransas Pass Civic Center</a>.&nbsp\;<a href="https://www.aransaspass.org/" rel="nofollow noopener noreferrer" style="text-decoration-line: none\; cursor: pointer\; background-color: transparent\;" target="_blank">Aransas Pass\, Texas</a>&nbsp\;is a coastal town known for boating\, kayaking\, bird watching\, fishing and more. We&#39\;ll have an amazing uplifting day on Saturday leaving you plenty of time to continue on for a girl&#39\;s weekend. Additional places to visit for your weekend include:&nbsp\;<a href="https://www.portaransas.org/" rel="nofollow noopener noreferrer" style="text-decoration-line: none\; cursor: pointer\; background-color: transparent\;" target="_blank">Port Aransas</a>\, known for its sandy white beaches and&nbsp\;<a href="https://www.rockport-fulton.org/" rel="nofollow noopener noreferrer" style="text-decoration-line: none\; cursor: pointer\; background-color: transparent\;" target="_blank">Rockport</a>\, a neighboring coastal town known for it&#39\;s amazing art galleries\, shopping\, wineries and restaurants.</p>\n\n<p style="margin: 0px\; padding: 10px 0px 0px\; color: rgb(111\, 114\, 135)\; font-size: 16px\; line-height: 1.5rem\; font-family: &quot\;Neue Plak&quot\;\, -apple-system\, BlinkMacSystemFont\, Roboto\, &quot\;Helvetica Neue&quot\;\, Helvetica\, Tahoma\, Arial\, sans-serif\; letter-spacing: 0.5px\; background-color: rgb(255\, 255\, 255)\;">For Friday night out of town guests\, you can find&nbsp\;<a href="https://www.aransaspass.org/where-to-stay" rel="nofollow noopener noreferrer" style="text-decoration-line: none\; cursor: pointer\; background-color: transparent\; padding-top: 0px\;" target="_blank">accommodations here</a>. If you are travelling from out of town with a few friends\,&nbsp\;<a href="https://www.vrbo.com/957911?arrival=2023-04-12&amp\;departure=2023-04-17&amp\;fbclid=IwAR25WqP5vmP1lAy7TFzoOs_eGksocvrwai5rYJve5agGcjsvLp88D0WlooI&amp\;oc=ATFQt41xLE_1obPwZtlYa&amp\;unitId=1505866&amp\;utm_campaign=earned%3Avrbo%3Asharecopylink%3AUSA&amp\;utm_content=957911&amp\;utm_medium=social&amp\;utm_source=direct" rel="nofollow noopener noreferrer" style="text-decoration-line: none\; cursor: pointer\; background-color: transparent\;" target="_blank">consider this beautiful cottage that sleeps up to 7</a>.</p>\n\n<p style="margin: 0px\; padding: 10px 0px 0px\; color: rgb(111\, 114\, 135)\; font-size: 16px\; line-height: 1.5rem\; font-family: &quot\;Neue Plak&quot\;\, -apple-system\, BlinkMacSystemFont\, Roboto\, &quot\;Helvetica Neue&quot\;\, Helvetica\, Tahoma\, Arial\, sans-serif\; letter-spacing: 0.5px\; background-color: rgb(255\, 255\, 255)\;">We&#39\;ll also have a meet and greet cocktail reception on Friday night<span style="font-weight: 700\; padding-top: 0px\;">\,</span>&nbsp\;October 14th\, at 7PM. Location to be announced.</p>\n\n<p style="margin: 0px\; padding: 10px 0px 0px\; color: rgb(111\, 114\, 135)\; font-size: 16px\; line-height: 1.5rem\; font-family: &quot\;Neue Plak&quot\;\, -apple-system\, BlinkMacSystemFont\, Roboto\, &quot\;Helvetica Neue&quot\;\, Helvetica\, Tahoma\, Arial\, sans-serif\; letter-spacing: 0.5px\; background-color: rgb(255\, 255\, 255)\;">You simply don&#39\;t want to miss this event.</p>\n\n<p style="margin: 0px\; padding: 10px 0px 0px\; color: rgb(111\, 114\, 135)\; font-size: 16px\; line-height: 1.5rem\; font-family: &quot\;Neue Plak&quot\;\, -apple-system\, BlinkMacSystemFont\, Roboto\, &quot\;Helvetica Neue&quot\;\, Helvetica\, Tahoma\, Arial\, sans-serif\; letter-spacing: 0.5px\; background-color: rgb(255\, 255\, 255)\;">At&nbsp\;<span style="font-weight: 700\; padding-top: 0px\;">Women\, It Begins with Us</span>\, we believe</p>\n\n<p style="margin: 0px\; padding: 10px 0px 0px\; color: rgb(111\, 114\, 135)\; font-size: 16px\; line-height: 1.5rem\; font-family: &quot\;Neue Plak&quot\;\, -apple-system\, BlinkMacSystemFont\, Roboto\, &quot\;Helvetica Neue&quot\;\, Helvetica\, Tahoma\, Arial\, sans-serif\; letter-spacing: 0.5px\; background-color: rgb(255\, 255\, 255)\;"><em style="padding-top: 0px\;">When women live into the best version of themselves\, not only are they better\, but so are the lives that they impact. While the seasons of a woman&#39\;s life changes\, her need for joy\, meaning and fun do not.</em></p>\n&nbsp\;\n\n<p style="margin: 0px\; padding: 0px\; color: rgb(57\, 54\, 79)\; font-family: &quot\;Neue Plak&quot\;\, -apple-system\, BlinkMacSystemFont\, Roboto\, &quot\;Helvetica Neue&quot\;\, Helvetica\, Tahoma\, Arial\, sans-serif\; font-size: 14px\; background-color: rgb(255\, 255\, 255)\;">&quot\;I believe women want to lives lives that matter.</p>\n\n<p style="margin: 0px\; padding: 0px\; color: rgb(57\, 54\, 79)\; font-family: &quot\;Neue Plak&quot\;\, -apple-system\, BlinkMacSystemFont\, Roboto\, &quot\;Helvetica Neue&quot\;\, Helvetica\, Tahoma\, Arial\, sans-serif\; font-size: 14px\; background-color: rgb(255\, 255\, 255)\;">Often\, however the constant busyness\, endless distractions and a general sense of complacency prevents us from living our best life.</p>\n\n<p style="margin: 0px\; padding: 0px\; color: rgb(57\, 54\, 79)\; font-family: &quot\;Neue Plak&quot\;\, -apple-system\, BlinkMacSystemFont\, Roboto\, &quot\;Helvetica Neue&quot\;\, Helvetica\, Tahoma\, Arial\, sans-serif\; font-size: 14px\; background-color: rgb(255\, 255\, 255)\;">I created&nbsp\;<span style="font-weight: 700\;">Women\, It Begins With Us</span>\, to bring together women so that we can exchange and explore with one another how to live into our best lives. Personally\, I&#39\;ve discovered that while the chapters of my life have changed\, my need for meaning\, joy and FUN does not.</p>\n\n<p style="margin: 0px\; padding: 0px\; color: rgb(57\, 54\, 79)\; font-family: &quot\;Neue Plak&quot\;\, -apple-system\, BlinkMacSystemFont\, Roboto\, &quot\;Helvetica Neue&quot\;\, Helvetica\, Tahoma\, Arial\, sans-serif\; font-size: 14px\; background-color: rgb(255\, 255\, 255)\;">When we women become our best version\, not only are our lives better\, but so too are our families and communities&quot\;.&nbsp\; Dr. Denise&nbsp\;</p>\n
LOCATION:Aransas Pass Civic Center\, 700 W Wheeler Ave\, Aransas Pass\, Tx. 78336
UID:e.1295.7318
SEQUENCE:3
DTSTAMP:20260423T200231Z
URL:https://events.gtswebdesign.com/events/details/women-it-begins-with-us-a-women-s-workshop-october-15-2022-7318
END:VEVENT

END:VCALENDAR
