BEGIN:VCALENDAR
VERSION:2.0
PRODID:-//ChamberMaster//Event Calendar 2.0//EN
METHOD:PUBLISH
X-PUBLISHED-TTL:P3D
REFRESH-INTERVAL:P3D
CALSCALE:GREGORIAN
BEGIN:VEVENT
DTSTART:20230603T140000Z
DTEND:20230604T210000Z
X-MICROSOFT-CDO-ALLDAYEVENT:FALSE
SUMMARY:VFW 2932 Aransas Pass - Market Days & Yard Sale
DESCRIPTION:VFW Market Days & Yard Sale Saturday & Sunday 10 AM - 4 PM.\n\nWe have vendors inside and outside We also have games for children\n\nFood Trucks will be selling your favorite foods and drinks.\n\nIndoor/Outdoor vendors needed!\n\nCall Andrea for more information (970) 629-9508
X-ALT-DESC;FMTTYPE=text/html:<span style="background:white\;"><span style="color:#333333\;"><span style="font-family:arial\,sans-serif\;"><span style="font-size:10.0pt\;">VFW Market Days &amp\; Yard Sale Saturday &amp\; Sunday 10 AM - 4 PM.</span></span></span></span><br />\n<span style="color: rgb(51\, 51\, 51)\; font-family: sans-serif\, Arial\, Verdana\, &quot\;Trebuchet MS&quot\;\; font-size: 13px\; background-color: rgb(255\, 255\, 255)\;">We have vendors inside and outside We also have games for children</span><br />\n<span style="color:#333333\;"><span style="font-family:arial\,sans-serif\;"><span style="font-size:10.0pt\;"><span style="background:white\;">Food Trucks will be selling your favorite foods and drinks.</span><br />\n<span style="background:white\;">Indoor/Outdoor vendors needed!</span><br />\n<span style="background:white\;">Call Andrea for more information (970) 629-9508</span></span></span></span>
LOCATION:VFW Aransas Pass 620 W. Wheeler Ave. Aransas Pass \, TX 78336
UID:e.1295.7384
SEQUENCE:3
DTSTAMP:20260423T071349Z
URL:https://events.gtswebdesign.com/events/details/vfw-2932-aransas-pass-market-days-yard-sale-7384
END:VEVENT

END:VCALENDAR
