BEGIN:VCALENDAR
VERSION:2.0
PRODID:-//ChamberMaster//Event Calendar 2.0//EN
METHOD:PUBLISH
X-PUBLISHED-TTL:P3D
REFRESH-INTERVAL:P3D
CALSCALE:GREGORIAN
BEGIN:VEVENT
DTSTART:20230422T140000Z
DTEND:20230422T170000Z
X-MICROSOFT-CDO-ALLDAYEVENT:FALSE
SUMMARY:TXGLO Adopt-A-Beach Clean Up
DESCRIPTION:https://texasadoptabeach.org/volunteer/cleanups/index.html Registration and additional information can be found in above link.
X-ALT-DESC;FMTTYPE=text/html:https://texasadoptabeach.org/volunteer/cleanups/index.html Registration and additional information can be found in above link.
LOCATION:Light House Lakes Park Aransas Pass
UID:e.1295.7443
SEQUENCE:3
DTSTAMP:20260423T102221Z
URL:https://events.gtswebdesign.com/events/details/txglo-adopt-a-beach-clean-up-7443
END:VEVENT

END:VCALENDAR
