BEGIN:VCALENDAR
VERSION:2.0
PRODID:-//ChamberMaster//Event Calendar 2.0//EN
METHOD:PUBLISH
X-PUBLISHED-TTL:P3D
REFRESH-INTERVAL:P3D
CALSCALE:GREGORIAN
BEGIN:VEVENT
DTSTART:20221122T163000Z
DTEND:20221122T163000Z
X-MICROSOFT-CDO-ALLDAYEVENT:FALSE
SUMMARY:Turkey Giveaway
DESCRIPTION:Dream Team Realtors Fifth Annual Turkey Giveaway. At the office of Dream Team Realtors. Our friends from Crossroads Church will be providing some of your favorite fixing! Limit one per household.
X-ALT-DESC;FMTTYPE=text/html:Dream Team Realtors Fifth Annual Turkey Giveaway. At the office of Dream Team Realtors. Our friends from Crossroads Church will be providing some of your favorite fixing! Limit one per household.
LOCATION:410 S. Commercial St. Aransas Pass\, TX 78336
UID:e.1295.7356
SEQUENCE:3
DTSTAMP:20260423T182854Z
URL:https://events.gtswebdesign.com/events/details/turkey-giveaway-7356
END:VEVENT

END:VCALENDAR
