BEGIN:VCALENDAR
VERSION:2.0
PRODID:-//ChamberMaster//Event Calendar 2.0//EN
METHOD:PUBLISH
X-PUBLISHED-TTL:P3D
REFRESH-INTERVAL:P3D
CALSCALE:GREGORIAN
BEGIN:VEVENT
DTSTART:20221029T233000Z
DTEND:20221030T020000Z
X-MICROSOFT-CDO-ALLDAYEVENT:FALSE
SUMMARY:Trunk or Treat at Conn Brown Harbor 6:30pm-9pm
DESCRIPTION:The City is hosting its 7th annual Trunk-or-Treat event and we would like to invite you to become a part of this great night. We are offering an opportunity to participate in an event that will create lasting memories and have a positive impact within the Aransas Pass community. We are expecting this event to be Spooktacular! With the help of our community supporters\, we are capable of promoting local businesses while providing a free family-friendly event.\n\n\n\n ***Deadline for sponsorship is Friday\, October 21\, 2022***\n\nSponsorship Levels and Cost:\n\n\n\nCasper Sponsorship Level\n\nThis is for any of our sponsors that want to donate candy because they cannot make the event.\n\n\n\nFrankenstein Sponsorship Level:\n\nWith so many Ghouls and Goblins\, lots of goodies are in demand. This sponsorship is for those who would like to give monetary donations to purchase goodies and giveaways needed for the children.\n\n\n\nWerewolf Sponsorship Level:\n\nThis sponsorship is for any and all businesses that would like to participate in the Truck or Treat with a vehicle to hand out candy. Participants have been known to dress in Halloween fashion and decorate their trunks. (Space will be limited and on a first come\, first serve bases. Those wishing to participate must register.  This is free other than you cost.\n\n\n\nFor more information or to participate please contact: Marilu Mojica mmojica@aptx.gov (361) 758-3111 X 3151\n\nPublic Works is located at 601 N. Ave A\, Aransas Pass\, Tx.
X-ALT-DESC;FMTTYPE=text/html:The City is hosting its <strong>7th annual Trunk-or-Treat event </strong>and we would like to invite you to become a part of this great night. We are offering an opportunity to participate in an event that will create&nbsp\;<span style="color: rgb(51\, 51\, 51)\; font-family: sans-serif\, Arial\, Verdana\, &quot\;Trebuchet MS&quot\;\; font-size: 13px\; background-color: rgb(255\, 255\, 255)\;">lasting memories and have a positive impact within the Aransas Pass community. We are expecting this event to be Spooktacular! With the help of our community supporters\, we are capable of promoting local businesses while providing a free family-friendly event.</span><br />\n<br />\n<u style="color: rgb(51\, 51\, 51)\; font-family: sans-serif\, Arial\, Verdana\, &quot\;Trebuchet MS&quot\;\; font-size: 13px\;"><span style="font-size: 14px\;">&nbsp\;***Deadline for sponsorship is Friday\, October 21\, 2022***</span></u><br />\n<strong><u>Sponsorship Levels and Cost:</u><br />\n<br />\nCasper Sponsorship Level</strong><br />\nThis is for any of our sponsors that want to donate candy because they cannot make the event.<br />\n<br />\n<strong>Frankenstein Sponsorship Level:</strong><br />\nWith so many Ghouls and Goblins\, lots of goodies are in demand. This sponsorship is for those who would like to give monetary donations to purchase goodies and giveaways needed for the children.<br />\n<br />\n<strong>Werewolf Sponsorship Level:</strong><br />\nThis sponsorship is for any and all businesses that would like to participate in the Truck or Treat with a vehicle to hand out candy. Participants have been known to dress in Halloween fashion and decorate their trunks. (Space will be limited and on a first come\, first serve bases. Those wishing to participate must register.&nbsp\; This is free other than you cost.<br />\n<br />\n<strong>For more information or to participate please contact: Marilu Mojica mmojica@aptx.gov (361) 758-3111 X 3151<br />\nPublic Works is located at&nbsp\;601 N. Ave A\, Aransas Pass\, Tx.&nbsp\; &nbsp\; &nbsp\; &nbsp\; &nbsp\; &nbsp\; &nbsp\; &nbsp\; &nbsp\; &nbsp\;</strong><br />\n&nbsp\;
LOCATION:Conn Brown Harbor Point Park 519 Bigelow Street Aransas Pass\, TX 78336
UID:e.1295.7335
SEQUENCE:3
DTSTAMP:20260423T195645Z
URL:https://events.gtswebdesign.com/events/details/trunk-or-treat-at-conn-brown-harbor-6-30pm-9pm-7335
END:VEVENT

END:VCALENDAR
