BEGIN:VCALENDAR
VERSION:2.0
PRODID:-//ChamberMaster//Event Calendar 2.0//EN
METHOD:PUBLISH
X-PUBLISHED-TTL:P3D
REFRESH-INTERVAL:P3D
CALSCALE:GREGORIAN
BEGIN:VEVENT
DTSTART:20210925T130000Z
DTEND:20210925T210000Z
X-MICROSOFT-CDO-ALLDAYEVENT:FALSE
SUMMARY:The "Smoke on the Coast" BBQ Cookoff
DESCRIPTION:The FIRST ANNUAL Smokin' On the Coast BBQ Cookoff will be held Saturday\, September 25th\, 2021 at the Shrimporee Grounds. This fundraiser will benefit the Aransas Pass Fire Department. It is a CBA sanctioned event.
X-ALT-DESC;FMTTYPE=text/html:<span style="color: rgb(228\, 230\, 235)\; font-family: &quot\;Segoe UI Historic&quot\;\, &quot\;Segoe UI&quot\;\, Helvetica\, Arial\, sans-serif\; font-size: 15px\; background-color: rgb(36\, 37\, 38)\;">The FIRST ANNUAL Smokin&#39\; On the Coast BBQ Cookoff will be held Saturday\, September 25th\, 2021 at the Shrimporee Grounds. This fundraiser will benefit the Aransas Pass Fire Department. It is a CBA sanctioned event.&nbsp\;</span>
LOCATION:Shrimporee Grounds 200 E. Johnson Ave Aransas Pass\, TX
UID:e.1295.7223
SEQUENCE:3
DTSTAMP:20260424T141407Z
URL:https://events.gtswebdesign.com/events/details/the-smoke-on-the-coast-bbq-cookoff-7223
END:VEVENT

END:VCALENDAR
