BEGIN:VCALENDAR
VERSION:2.0
PRODID:-//ChamberMaster//Event Calendar 2.0//EN
METHOD:PUBLISH
X-PUBLISHED-TTL:P3D
REFRESH-INTERVAL:P3D
CALSCALE:GREGORIAN
BEGIN:VEVENT
DTSTART:20230430T210000Z
DTEND:20230501T000000Z
X-MICROSOFT-CDO-ALLDAYEVENT:FALSE
SUMMARY:The Catfish Blues Jam - Rialto Theater
DESCRIPTION:The Catfish Blues Jam. 4-7 PM Open to all Joes and Pros.\n\nBring your A game and play with the house band with any instrument or bring other players and do your own thing. Backline provided. Hosted by the Rialto house band.\n\nThe Historic Rialto Bar will be open for every Jam.\n\nBring your friends\, lots of them!\n\nSign-up with Frank. Starts @ 3:45 PM
X-ALT-DESC;FMTTYPE=text/html:The Catfish Blues Jam. 4-7 PM Open to all Joes and Pros.<br>\nBring your A game and play with the house band with any instrument or bring other players and do your own thing. Backline provided. Hosted by the Rialto house band.<br>\nThe Historic Rialto Bar will be open for every Jam.<br>\nBring your friends\, lots of them!<br>\nSign-up with Frank. Starts @ 3:45 PM<br>\n&nbsp\;
LOCATION:327 S Commercial St. Aransas Pass\, TX 78336 (361) 758-0383
UID:e.1295.7431
SEQUENCE:3
DTSTAMP:20260423T120359Z
URL:https://events.gtswebdesign.com/events/details/the-catfish-blues-jam-rialto-theater-04-30-2023-7431
END:VEVENT

END:VCALENDAR
