BEGIN:VCALENDAR
VERSION:2.0
PRODID:-//ChamberMaster//Event Calendar 2.0//EN
METHOD:PUBLISH
X-PUBLISHED-TTL:P3D
REFRESH-INTERVAL:P3D
CALSCALE:GREGORIAN
BEGIN:VEVENT
DTSTART:20220108T180000Z
DTEND:20220109T180000Z
X-MICROSOFT-CDO-ALLDAYEVENT:FALSE
SUMMARY:Texas Winter Market
DESCRIPTION:Come shop the 11th annual Texas Winter Market coming to the Aransas Pass Civic Center (700 W. Wheeler ~ Aransas Pass\, TX)\, January 8-9\, 2022. Vendors will be bringing the best in clothing\, jewelry\, gifts\, Scentsy\, Texas handmade\, home decor\, accessories\, gourmet food\, photography\, Texas wine sampling\, candles\, gifts for the guys and so much more.\n\n\n\nShow hours are Sat. 9-5 and Sun.10-4.\n\n\n\nAdmission is $5.00 or $4.00 with your non-perishable food donation to the food pantry. Admission is good for both days and kids 12 and under are FREE.\n\n\n\nFor more info call 888-225-3427.
X-ALT-DESC;FMTTYPE=text/html:<span style="font-family: arial\; font-size: 14px\; color: rgb(5\, 5\, 5)\;">Come shop the 11th annual Texas Winter Market coming to the Aransas Pass Civic Center (700 W. Wheeler ~ Aransas Pass\, TX)\, January 8-9\, 2022. Vendors will be bringing the best in clothing\, jewelry\, gifts\, Scentsy\, Texas handmade\, home decor\, accessories\, gourmet food\, photography\, Texas wine sampling\, candles\, gifts for the guys and so much more.</span><br style="font-family: arial\; font-size: 14px\; box-sizing: border-box\;" />\n<br style="font-family: arial\; font-size: 14px\; box-sizing: border-box\;" />\n<span style="font-family: arial\; font-size: 14px\;"><span style="background-color: rgba(255\, 255\, 255\, 0.75)\;">Show hours are Sat. 9-5 and Sun.10-4.</span></span><br style="font-family: arial\; font-size: 14px\; box-sizing: border-box\;" />\n<br style="font-family: arial\; font-size: 14px\; box-sizing: border-box\;" />\n<span style="font-family: arial\; font-size: 14px\;"><span style="background-color: rgba(255\, 255\, 255\, 0.75)\;">Admission is $5.00 or $4.00 with your non-perishable food donation to the food pantry. Admission is good for both days and kids 12 and under are FREE.</span></span><br style="font-family: arial\; font-size: 14px\; box-sizing: border-box\;" />\n<br style="font-family: arial\; font-size: 14px\; box-sizing: border-box\;" />\n<strong style="font-family: arial\; font-size: 14px\; box-sizing: border-box\;">For more info call 888-225-3427.</strong>
LOCATION:
UID:e.1295.7259
SEQUENCE:3
DTSTAMP:20260424T094352Z
URL:https://events.gtswebdesign.com/events/details/texas-winter-market-01-08-2022-7259
END:VEVENT

END:VCALENDAR
