BEGIN:VCALENDAR
VERSION:2.0
PRODID:-//ChamberMaster//Event Calendar 2.0//EN
METHOD:PUBLISH
X-PUBLISHED-TTL:P3D
REFRESH-INTERVAL:P3D
CALSCALE:GREGORIAN
BEGIN:VEVENT
DTSTART:20231031T134500Z
DTEND:20231031T154500Z
X-MICROSOFT-CDO-ALLDAYEVENT:FALSE
SUMMARY:Storybook Character Walk - Faulk Elementary
DESCRIPTION:Businesses who would like to set up table along the perimeter of the school to pass out goodies to the students as they walk by\, go to the link below to sign up\n\n\n\nhttps://forms.gle/gEbrgC8Behu9U7KD8
X-ALT-DESC;FMTTYPE=text/html:Businesses who would like to set up table along the perimeter of the school to pass out goodies to the students as they walk by\, go to the link below to sign up<br />\n<br />\n<a href="https://l.facebook.com/l.php?u=https%3A%2F%2Fforms.gle%2FgEbrgC8Behu9U7KD8%3Ffbclid%3DIwAR17zLC6D2wWw753sUKpTGEq-QbmHDDhfBNo1P6GEOWbQhO_UkwuQ3I7zu4&amp\;h=AT3VCALMwxK9ygOs3joG6AMPqsIgipSfKb_QXE7NvNeT9wjA4IUNqMiIBgLYgygCmXlcT0_NAWON8xYWdoI4E8anawuqc5ES8a-xHtVIcx_CkFZ6cg-r7DKfVFz-Mn8aUvQsy-zv">https://forms.gle/gEbrgC8Behu9U7KD8</a>
LOCATION:Faulk Elementary 902 W Nelson Aransas Pass\, TX 78336
UID:e.1295.8050
SEQUENCE:3
DTSTAMP:20260423T010741Z
URL:https://events.gtswebdesign.com/events/details/storybook-character-walk-faulk-elementary-8050
END:VEVENT

END:VCALENDAR
