BEGIN:VCALENDAR
VERSION:2.0
PRODID:-//ChamberMaster//Event Calendar 2.0//EN
METHOD:PUBLISH
X-PUBLISHED-TTL:P3D
REFRESH-INTERVAL:P3D
CALSCALE:GREGORIAN
BEGIN:VEVENT
DTSTART:20210913T190000Z
DTEND:20210913T200000Z
X-MICROSOFT-CDO-ALLDAYEVENT:FALSE
SUMMARY:Starbucks Coffee Grand Opening & Ribbon Cutting Ceremony
DESCRIPTION:You're invited to the grand opening of Starbucks Coffee here in Aransas Pass.
X-ALT-DESC;FMTTYPE=text/html:You&#39\;re invited to the grand opening of Starbucks Coffee here in Aransas Pass.
LOCATION:FM 1069\, Aransas Pass\, TX 78336 In front of Lowes
UID:e.1295.7220
SEQUENCE:3
DTSTAMP:20260424T153822Z
URL:https://events.gtswebdesign.com/events/details/starbucks-coffee-grand-opening-ribbon-cutting-ceremony-7220
END:VEVENT

END:VCALENDAR
