BEGIN:VCALENDAR
VERSION:2.0
PRODID:-//ChamberMaster//Event Calendar 2.0//EN
METHOD:PUBLISH
X-PUBLISHED-TTL:P3D
REFRESH-INTERVAL:P3D
CALSCALE:GREGORIAN
BEGIN:VEVENT
DTSTART;VALUE=DATE:20230923
DTEND;VALUE=DATE:20230924
TRANSP:TRANSPARENT
X-MICROSOFT-CDO-ALLDAYEVENT:TRUE
SUMMARY:Smoke On The Water - CBA Sanctioned BBQ Competition
DESCRIPTION:Redford Ranch Foundation Presents:\n\nChampions BBQ Alliance Sanctioned BBQ Competition.\n\nAll event proceeds help support veterans\, first responders\, and their families.\n\nSponsorship Opportunities Available!\n\nFor more information visit: www.redfordranch.org/smoke-on-the-water.html
X-ALT-DESC;FMTTYPE=text/html:Redford Ranch Foundation Presents:<br />\nChampions BBQ Alliance Sanctioned BBQ Competition.<br />\nAll event proceeds help support veterans\, first responders\, and their families.<br />\nSponsorship Opportunities Available!<br />\nFor more information visit:&nbsp\;<a href="http://www.redfordranch.org/smoke-on-the-water.html">www.redfordranch.org/smoke-on-the-water.html</a><br />\n&nbsp\;
LOCATION:Shrimporee Grounds 200 E Johnson Ave. Aransas Pass\, TX 78336
UID:e.1295.7488
SEQUENCE:3
DTSTAMP:20260423T041751Z
URL:https://events.gtswebdesign.com/events/details/smoke-on-the-water-cba-sanctioned-bbq-competition-7488
END:VEVENT

END:VCALENDAR
