BEGIN:VCALENDAR
VERSION:2.0
PRODID:-//ChamberMaster//Event Calendar 2.0//EN
METHOD:PUBLISH
X-PUBLISHED-TTL:P3D
REFRESH-INTERVAL:P3D
CALSCALE:GREGORIAN
BEGIN:VEVENT
DTSTART:20230608T220000Z
DTEND:20230609T000000Z
X-MICROSOFT-CDO-ALLDAYEVENT:FALSE
SUMMARY:Small Business Resources Forum - Meet & Greet
DESCRIPTION:Sinton\, Aransas Pass\, Ingleside & Portland Chambers of Commerce have partnered with the Small Business Development Center (SBDC) and its resource partners to host a small business forum to bring small businesses together to learn about the variety of assistance provided to help start\, grow\, expand\, and recover their small businesses.\n\nNo Cost - Register at SEMINARSCC.COM
X-ALT-DESC;FMTTYPE=text/html:Sinton\, Aransas Pass\, Ingleside &amp\; Portland Chambers of Commerce have partnered with the Small Business Development Center (SBDC) and its resource partners to host a small business forum to bring small businesses together to learn about the variety of assistance provided to help start\, grow\, expand\, and recover their small businesses.<br />\nNo Cost - Register at SEMINARSCC.COM
LOCATION:Sinton Community Center 1300 E Sinton St Sinton TX\, 78387
UID:e.1295.7476
SEQUENCE:3
DTSTAMP:20260423T071124Z
URL:https://events.gtswebdesign.com/events/details/small-business-resources-forum-meet-greet-7476
END:VEVENT

END:VCALENDAR
