BEGIN:VCALENDAR
VERSION:2.0
PRODID:-//ChamberMaster//Event Calendar 2.0//EN
METHOD:PUBLISH
X-PUBLISHED-TTL:P3D
REFRESH-INTERVAL:P3D
CALSCALE:GREGORIAN
BEGIN:VEVENT
DTSTART:20240727T150000Z
DTEND:20240727T200000Z
X-MICROSOFT-CDO-ALLDAYEVENT:FALSE
SUMMARY:Sizzling Summer RV Sale & BBQ Bash at Howdy RV!
DESCRIPTION:Howdy RV is hosting a massive summer blowout!\n\nWith more inventory\, you'll find more options and greater savings. Enjoy free BBQ brisket and ribs from Chicago's Cater Food Truck\, along with kids' activities\, and take advantage of huge savings on new and used RVs\, and much more!\n\nIf you already own an RV and want to sell it quickly\, our RV Consignment professionals can assist you in securing a spot in our sales lot immediately. Please call us at 361-777-3177 and let us know before Saturday's event.\n\nWhether you're a full-time RVer looking to trade up\, or just starting out wanting an RV for new camping adventures\, we've got something for everyone! Bring yourself\, your friends\, or the whole family for some good food\, great RVs\, and good fun!\n\nShare this opportunity with your friends and let's create some unforgettable memories together. For any additional information or questions\, please call us directly at 361-777-3177\, option #1.
X-ALT-DESC;FMTTYPE=text/html:<p data-pm-slice="1 1 []">Howdy RV is hosting a massive summer blowout!</p>\n\n<p>With more inventory\, you&#39\;ll find more options and greater savings. Enjoy free BBQ brisket and ribs from Chicago&#39\;s Cater Food Truck\, along with kids&#39\; activities\, and take advantage of huge savings on new and used RVs\, and much more!</p>\n\n<p>If you already own an RV and want to sell it quickly\, our RV Consignment professionals can assist you in securing a spot in our sales lot immediately. Please call us at 361-777-3177 and let us know before Saturday&#39\;s event.</p>\n\n<p>Whether you&#39\;re a full-time RVer looking to trade up\, or just starting out wanting an RV for new camping adventures\, we&#39\;ve got something for everyone! Bring yourself\, your friends\, or the whole family for some good food\, great RVs\, and good fun!</p>\n\n<p>Share this opportunity with your friends and let&#39\;s create some unforgettable memories together. For any additional information or questions\, please call us directly at 361-777-3177\, option #1.</p>\n\n<p>&nbsp\;</p>\n
LOCATION:2220 W. Wheeler Ave.\, Aransas Pass\, TX 78336
UID:e.1295.8112
SEQUENCE:3
DTSTAMP:20260422T133826Z
URL:https://events.gtswebdesign.com/events/details/sizzling-summer-rv-sale-bbq-bash-at-howdy-rv-8112
END:VEVENT

END:VCALENDAR
