BEGIN:VCALENDAR
VERSION:2.0
PRODID:-//ChamberMaster//Event Calendar 2.0//EN
METHOD:PUBLISH
X-PUBLISHED-TTL:P3D
REFRESH-INTERVAL:P3D
CALSCALE:GREGORIAN
BEGIN:VEVENT
DTSTART:20221015T233000Z
DTEND:20221016T020000Z
X-MICROSOFT-CDO-ALLDAYEVENT:FALSE
SUMMARY:Shimmy in the Moonlight
DESCRIPTION:Belly Dancers from the Texas Coastal Bend Bellydance Association will be performing on stage at the Legendary Rialto Theater Lots and lots of shimmies here at the Texas Coastal Bend Bellydance Association. We have been using our sweet dance moves to do charitable work in and around our community. We also educate the community on cultural dance by bringing to the Coastal Bend trained dancers from other regions to instruct workshops on various dance topics and to perform alongside our talented members in our annual shows. We follow all this up by donating our proceeds to different charities right here in the Coastal Bend.
X-ALT-DESC;FMTTYPE=text/html:Belly Dancers from the Texas Coastal Bend Bellydance Association will be performing on stage at the Legendary Rialto Theater Lots and lots of shimmies here at the Texas Coastal Bend Bellydance Association. We have been using our sweet dance moves to do charitable work in and around our community. We also educate the community on cultural dance by bringing to the Coastal Bend trained dancers from other regions to instruct workshops on various dance topics and to perform alongside our talented members in our annual shows. We follow all this up by donating our proceeds to different charities right here in the Coastal Bend.
LOCATION:Rialto Theater 327 S. Commercial St. Aransas Pass Texas 87336
UID:e.1295.7345
SEQUENCE:3
DTSTAMP:20260423T212454Z
URL:https://events.gtswebdesign.com/events/details/shimmy-in-the-moonlight-7345
END:VEVENT

END:VCALENDAR
