BEGIN:VCALENDAR
VERSION:2.0
PRODID:-//ChamberMaster//Event Calendar 2.0//EN
METHOD:PUBLISH
X-PUBLISHED-TTL:P3D
REFRESH-INTERVAL:P3D
CALSCALE:GREGORIAN
BEGIN:VEVENT
DTSTART:20220919T180000Z
DTEND:20220919T190000Z
X-MICROSOFT-CDO-ALLDAYEVENT:FALSE
SUMMARY:Senior Fall Arts & Crafts 9/19/2022
DESCRIPTION:September Senior Calendar\n\nFall Arts & Crafts\n\nNo Meeting September 5\, 2022\n\nCraft Day September 19\, 2022 1-2pm
X-ALT-DESC;FMTTYPE=text/html:September Senior Calendar<br />\nFall Arts &amp\; Crafts<br />\nNo Meeting September 5\, 2022<br />\nCraft Day September 19\, 2022 1-2pm
LOCATION:Aransas Pass Civic Center 700 W Wheeler Ave Aransas Pass\, Tx. 78336
UID:e.1295.7338
SEQUENCE:3
DTSTAMP:20260423T213211Z
URL:https://events.gtswebdesign.com/events/details/senior-fall-arts-crafts-9-19-2022-7338
END:VEVENT

END:VCALENDAR
