BEGIN:VCALENDAR
VERSION:2.0
PRODID:-//ChamberMaster//Event Calendar 2.0//EN
METHOD:PUBLISH
X-PUBLISHED-TTL:P3D
REFRESH-INTERVAL:P3D
CALSCALE:GREGORIAN
BEGIN:VEVENT
DTSTART:20221217T170000Z
DTEND:20221218T220000Z
X-MICROSOFT-CDO-ALLDAYEVENT:FALSE
SUMMARY:Santa Corner
DESCRIPTION:MARK YOUR CALENDARS!\n\nSanta Claus is coming to town! Join us for our first ever Santa Corner event\, we will have Santa pictures for $5.00 (4x6 prints included)\, toy drive and a hot coco bar! Santa will be arriving Dec. 17th 11am-4pm and Dec. 18th 11am-3pm. Our photo station will be setup from Dec 5th through Dec 23rd for pictures before Santa's arrival as well. For more information please call us at 361-758-0009 Ext: 4102
X-ALT-DESC;FMTTYPE=text/html:MARK YOUR CALENDARS!<br />\nSanta Claus is coming to town! Join us for our first ever Santa Corner event\, we will have Santa pictures for $5.00 (4x6 prints included)\, toy drive and a hot coco bar! Santa will be arriving Dec. 17th 11am-4pm and Dec. 18th 11am-3pm. Our photo station will be setup from Dec 5th through Dec 23rd for pictures before Santa&#39\;s arrival as well. For more information please call us at 361-758-0009 Ext: 4102
LOCATION:Aransas Pass Civic Center 700 W Wheeler Ave. Aransas Pass\, TX 78336
UID:e.1295.7361
SEQUENCE:3
DTSTAMP:20260423T164748Z
URL:https://events.gtswebdesign.com/events/details/santa-corner-7361
END:VEVENT

END:VCALENDAR
