BEGIN:VCALENDAR
VERSION:2.0
PRODID:-//ChamberMaster//Event Calendar 2.0//EN
METHOD:PUBLISH
X-PUBLISHED-TTL:P3D
REFRESH-INTERVAL:P3D
CALSCALE:GREGORIAN
BEGIN:VEVENT
DTSTART;VALUE=DATE:20210724
DTEND;VALUE=DATE:20210726
TRANSP:TRANSPARENT
X-MICROSOFT-CDO-ALLDAYEVENT:TRUE
SUMMARY:Sandollar Summer Market
DESCRIPTION:Come shop the 10th annual Sandollar Summer Market at the Aransas Pass Civic Center July 24-25\, 2021. \n\n\n\nShow hours are Saturday 10 AM - 5 PM and Sunday 10 AM - 4 PM.\n\n\n\nVendors will be bringing the best in clothing\, gifts\, jewelry\, accessories\, gourmet food\, Texas handmade\, holiday and home decor\, and so much more! Admission is $5 or $4 with your non-perishable food donation to the food pantry.\n\n\n\nAdmission is good for both days and kids 12 and under are FREE!\n\nThis event will hold hourly door prizes.\n\nParking is FREE.\n\n\n\nCall 888-225-3427 today for more info!
X-ALT-DESC;FMTTYPE=text/html:<span style="font-size:14px\;"><span style="font-family:arial\;"><span style="color: rgb(5\, 5\, 5)\;">Come shop the 10th annual Sandollar Summer Market at the Aransas Pass Civic Center&nbsp\;July 24-25\, 2021.&nbsp\;<br />\n<br />\nShow hours are Saturday 10 AM - 5 PM and Sunday 10 AM - 4 PM.<br />\n<br />\nVendors will be bringing the best in clothing\, gifts\, jewelry\, accessories\, gourmet food\, Texas handmade\, holiday and home decor\, and so much more! Admission is $5 or $4 with your non-perishable food donation to the food pantry.<br />\n<br />\nAdmission is good for both days and kids 12 and under are FREE!<br />\nThis event will hold hourly door prizes.<br />\nParking is FREE.<br />\n<br />\n<strong>Call 888-225-3427 today for more info!</strong></span></span></span>
LOCATION:Aransas Pass Civic Center 700 W. Wheeler Ave. Aransas Pass\, TX 78336
UID:e.1295.7199
SEQUENCE:3
DTSTAMP:20260424T165537Z
URL:https://events.gtswebdesign.com/events/details/sandollar-summer-market-7199
END:VEVENT

END:VCALENDAR
