BEGIN:VCALENDAR
VERSION:2.0
PRODID:-//ChamberMaster//Event Calendar 2.0//EN
METHOD:PUBLISH
X-PUBLISHED-TTL:P3D
REFRESH-INTERVAL:P3D
CALSCALE:GREGORIAN
BEGIN:VEVENT
DTSTART:20221010T220000Z
DTEND:20221010T223000Z
X-MICROSOFT-CDO-ALLDAYEVENT:FALSE
SUMMARY:Ribbon cutting - Grand Opening
DESCRIPTION:Join us for a Ribbon Cutting and Grand Opening Celebration of the new Fitsique Gym location.
X-ALT-DESC;FMTTYPE=text/html:Join us for a Ribbon Cutting and Grand Opening Celebration of the new Fitsique Gym location.<br />\n&nbsp\;
LOCATION:301 S Commercial St\, Aransas Pass\, TX 78336
UID:e.1295.7340
SEQUENCE:3
DTSTAMP:20260423T195400Z
URL:https://events.gtswebdesign.com/events/details/ribbon-cutting-grand-opening-7340
END:VEVENT

END:VCALENDAR
