BEGIN:VCALENDAR
VERSION:2.0
PRODID:-//ChamberMaster//Event Calendar 2.0//EN
METHOD:PUBLISH
X-PUBLISHED-TTL:P3D
REFRESH-INTERVAL:P3D
CALSCALE:GREGORIAN
BEGIN:VEVENT
DTSTART:20230502T190000Z
DTEND:20230502T192000Z
X-MICROSOFT-CDO-ALLDAYEVENT:FALSE
SUMMARY:Ribbon Cutting - Coleen Esthetics
DESCRIPTION:Join us in welcoming Coleen Esthetics to the Aransas Pass Chamber of Commerce.
X-ALT-DESC;FMTTYPE=text/html:Join us in welcoming Coleen Esthetics to the Aransas Pass Chamber of Commerce.
LOCATION:Coleen Esthetics 4279 FM 1069 Aransas Pass\, TX 78336
UID:e.1295.7473
SEQUENCE:3
DTSTAMP:20260423T084452Z
URL:https://events.gtswebdesign.com/events/details/ribbon-cutting-coleen-esthetics-7473
END:VEVENT

END:VCALENDAR
