BEGIN:VCALENDAR
VERSION:2.0
PRODID:-//ChamberMaster//Event Calendar 2.0//EN
METHOD:PUBLISH
X-PUBLISHED-TTL:P3D
REFRESH-INTERVAL:P3D
CALSCALE:GREGORIAN
BEGIN:VEVENT
DTSTART:20230205T010000Z
DTEND:20230205T040000Z
X-MICROSOFT-CDO-ALLDAYEVENT:FALSE
SUMMARY:Rialto Theater presents Alastair Greene
DESCRIPTION:Rialto Theater presents Whiskey Bayou recording artist Alastair Greene.\n\nSaturday February 4\, 2023  from 7-10PM\n\nProceeds form this event will help Objective22.com fight veteran suicide.
X-ALT-DESC;FMTTYPE=text/html:Rialto Theater presents Whiskey Bayou recording artist Alastair Greene.<br />\nSaturday February 4\, 2023&nbsp\; from 7-10PM<br />\nProceeds form this event will help Objective22.com fight veteran suicide.
LOCATION:Rialto Theater 327 S Commercial St. Aransas Pass\, TX 78336 (361) 758-0383
UID:e.1295.7386
SEQUENCE:3
DTSTAMP:20260423T134213Z
URL:https://events.gtswebdesign.com/events/details/rialto-theater-presents-alastair-greene-7386
END:VEVENT

END:VCALENDAR
