BEGIN:VCALENDAR
VERSION:2.0
PRODID:-//ChamberMaster//Event Calendar 2.0//EN
METHOD:PUBLISH
X-PUBLISHED-TTL:P3D
REFRESH-INTERVAL:P3D
CALSCALE:GREGORIAN
BEGIN:VEVENT
DTSTART:20230401T210000Z
DTEND:20230402T020000Z
X-MICROSOFT-CDO-ALLDAYEVENT:FALSE
SUMMARY:Rialto Theater - Aransas Pass Blues Fest 2023
DESCRIPTION:Rialto Theater - Aransas Pass Blue Fest 2023 at the South Texas Blues Epicenter.\n\nMultiple Bands\, a fundraiser for sound system upgrades for the non-profit Rialto Theater.\n\n$15 suggested donation - give what you can!\n\nBeverages from the Famous Rialto Bar and Catfish Dinner will be available for purchase!\n\nTell your friends! Come to Party!
X-ALT-DESC;FMTTYPE=text/html:Rialto Theater - Aransas Pass Blue Fest 2023 at the South Texas Blues Epicenter.<br />\nMultiple Bands\, a fundraiser for sound system upgrades for the non-profit Rialto Theater.<br />\n$15 suggested donation - give what you can!<br />\nBeverages from the Famous Rialto Bar and Catfish Dinner will be available for purchase!<br />\nTell your friends! Come to Party!
LOCATION:Rialto Theater 327 S Commercial St Aransas Pass\, TX 78336
UID:e.1295.7433
SEQUENCE:3
DTSTAMP:20260423T120236Z
URL:https://events.gtswebdesign.com/events/details/rialto-theater-aransas-pass-blues-fest-2023-7433
END:VEVENT

END:VCALENDAR
