BEGIN:VCALENDAR
VERSION:2.0
PRODID:-//ChamberMaster//Event Calendar 2.0//EN
METHOD:PUBLISH
X-PUBLISHED-TTL:P3D
REFRESH-INTERVAL:P3D
CALSCALE:GREGORIAN
BEGIN:VEVENT
DTSTART;VALUE=DATE:20240219
DTEND;VALUE=DATE:20240220
TRANSP:TRANSPARENT
X-MICROSOFT-CDO-ALLDAYEVENT:TRUE
SUMMARY:Presidents Day - Office Closed
DESCRIPTION:Happy Presidents Day!\n\nThe Aransas Pass Chamber of Commerce & Visitors Center will be closed on February 19\, 2024.
X-ALT-DESC;FMTTYPE=text/html:Happy Presidents Day!<br />\nThe Aransas Pass Chamber of Commerce &amp\; Visitors Center will be closed on February 19\, 2024.&nbsp\;
LOCATION:
UID:e.1295.8070
SEQUENCE:3
DTSTAMP:20260422T204922Z
URL:https://events.gtswebdesign.com/events/details/presidents-day-office-closed-8070
END:VEVENT

END:VCALENDAR
