BEGIN:VCALENDAR
VERSION:2.0
PRODID:-//ChamberMaster//Event Calendar 2.0//EN
METHOD:PUBLISH
X-PUBLISHED-TTL:P3D
REFRESH-INTERVAL:P3D
CALSCALE:GREGORIAN
BEGIN:VEVENT
DTSTART:20230209T140000Z
DTEND:20230209T160000Z
X-MICROSOFT-CDO-ALLDAYEVENT:FALSE
SUMMARY:Physicians PremiER - Love at First (ER) Site - Open house
DESCRIPTION:Come fall in love with Physicians PremiER Portland.\n\nThursday February 9\, 2023 from 8-10AM\n\nBreakfast\, Tours\, Cookbook & Smoothie Demo.\n\nEnter your business card for a chance to win a door prize!\n\nMeet Physicians Premier's Journey to Wellness Cookbook\n\nauthor Jennifer Meachum\, RDN\, LD
X-ALT-DESC;FMTTYPE=text/html:Come fall in love with Physicians PremiER Portland.<br />\nThursday February 9\, 2023 from 8-10AM<br />\nBreakfast\, Tours\, Cookbook &amp\; Smoothie Demo.<br />\nEnter your business card for a chance to win a door prize!<br />\nMeet Physicians Premier&#39\;s Journey to Wellness Cookbook<br />\nauthor Jennifer Meachum\, RDN\, LD<br />\n&nbsp\;
LOCATION:Physicians Premier Portland 1860 US Hwy 181\, Suite C Portland\, TX 78374 (361) 288-9665
UID:e.1295.7403
SEQUENCE:3
DTSTAMP:20260423T133942Z
URL:https://events.gtswebdesign.com/events/details/physicians-premier-love-at-first-er-site-open-house-7403
END:VEVENT

END:VCALENDAR
