BEGIN:VCALENDAR
VERSION:2.0
PRODID:-//ChamberMaster//Event Calendar 2.0//EN
METHOD:PUBLISH
X-PUBLISHED-TTL:P3D
REFRESH-INTERVAL:P3D
CALSCALE:GREGORIAN
BEGIN:VEVENT
DTSTART;VALUE=DATE:20230407
DTEND;VALUE=DATE:20230408
TRANSP:TRANSPARENT
X-MICROSOFT-CDO-ALLDAYEVENT:TRUE
SUMMARY:Office Closed - The Visitors Center will be closed for Good Friday
DESCRIPTION:The Visitors Center will be closed for Good Friday April 7\, 2023.\n\nNormal office hours will resume Monday\, April 10\, 2023.
X-ALT-DESC;FMTTYPE=text/html:The Visitors Center will be closed for Good Friday April 7\, 2023.<br />\nNormal office hours will resume Monday\, April 10\, 2023.
LOCATION:Aransas Pass Chamber of Commerce & Visitors Center 130 W Goodnight Ave. Aransas Pass\, TX 78336
UID:e.1295.7437
SEQUENCE:3
DTSTAMP:20260423T120056Z
URL:https://events.gtswebdesign.com/events/details/office-closed-the-visitors-center-will-be-closed-for-good-friday-7437
END:VEVENT

END:VCALENDAR
