BEGIN:VCALENDAR
VERSION:2.0
PRODID:-//ChamberMaster//Event Calendar 2.0//EN
METHOD:PUBLISH
X-PUBLISHED-TTL:P3D
REFRESH-INTERVAL:P3D
CALSCALE:GREGORIAN
BEGIN:VEVENT
DTSTART;VALUE=DATE:20230116
DTEND;VALUE=DATE:20230117
TRANSP:TRANSPARENT
X-MICROSOFT-CDO-ALLDAYEVENT:TRUE
SUMMARY:Office Closed - Martin Luther King Jr. Holiday
DESCRIPTION:The Chamber Office will be closed Monday January 16\, 2023 in celebration of the\n\nMartin Luther King Jr. Holiday.
X-ALT-DESC;FMTTYPE=text/html:The Chamber Office will be closed Monday January 16\, 2023 in celebration of the<br />\nMartin Luther King Jr. Holiday.
LOCATION:Aransas Pass Chamber of Commerce 130 W Goodnight Ave. Aransas Pass\, TX 78336
UID:e.1295.7387
SEQUENCE:3
DTSTAMP:20260423T151801Z
URL:https://events.gtswebdesign.com/events/details/office-closed-martin-luther-king-jr-holiday-7387
END:VEVENT

END:VCALENDAR
