BEGIN:VCALENDAR
VERSION:2.0
PRODID:-//ChamberMaster//Event Calendar 2.0//EN
METHOD:PUBLISH
X-PUBLISHED-TTL:P3D
REFRESH-INTERVAL:P3D
CALSCALE:GREGORIAN
BEGIN:VEVENT
DTSTART:20221231T160000Z
DTEND:20230101T210000Z
X-MICROSOFT-CDO-ALLDAYEVENT:FALSE
SUMMARY:New Years Eve & New Years Day - Coasters
DESCRIPTION:News Years Eve & New Years Day Brunch and Dinner Specials!\n\nDecember 31\, 2022 10AM - 8PM\n\nJanuary 1\, 2023 10AM - 3PM
X-ALT-DESC;FMTTYPE=text/html:News Years Eve &amp\; New Years Day Brunch and Dinner Specials!<br />\nDecember 31\, 2022 10AM - 8PM<br />\nJanuary 1\, 2023 10AM - 3PM<br />\n&nbsp\;
LOCATION:320 Huff Street Aransas Pass\, TX 78336
UID:e.1295.7375
SEQUENCE:3
DTSTAMP:20260423T151641Z
URL:https://events.gtswebdesign.com/events/details/new-years-eve-new-years-day-coasters-7375
END:VEVENT

END:VCALENDAR
