BEGIN:VCALENDAR
VERSION:2.0
PRODID:-//ChamberMaster//Event Calendar 2.0//EN
METHOD:PUBLISH
X-PUBLISHED-TTL:P3D
REFRESH-INTERVAL:P3D
CALSCALE:GREGORIAN
BEGIN:VEVENT
DTSTART:20231003T223000Z
DTEND:20231004T003000Z
X-MICROSOFT-CDO-ALLDAYEVENT:FALSE
SUMMARY:National Night Out - Aransas Pass
DESCRIPTION:Aransas Pass National Night Out 2023\n\nFree Family Event
X-ALT-DESC;FMTTYPE=text/html:Aransas Pass National Night Out 2023<br />\nFree Family Event<br />\n&nbsp\;
LOCATION:Shrimporee Grounds 200 E. Johnson Aransas Pass \, TX 78336
UID:e.1295.8038
SEQUENCE:3
DTSTAMP:20260423T024838Z
URL:https://events.gtswebdesign.com/events/details/national-night-out-aransas-pass-8038
END:VEVENT

END:VCALENDAR
