BEGIN:VCALENDAR
VERSION:2.0
PRODID:-//ChamberMaster//Event Calendar 2.0//EN
METHOD:PUBLISH
X-PUBLISHED-TTL:P3D
REFRESH-INTERVAL:P3D
CALSCALE:GREGORIAN
BEGIN:VEVENT
DTSTART:20221004T220000Z
DTEND:20221005T003000Z
X-MICROSOFT-CDO-ALLDAYEVENT:FALSE
SUMMARY:National Night Out 2022
DESCRIPTION:National Night Out 2022 Event by Aransas Pass Police Department\n\n\n\nFirst\, we would love to have representatives from your group set up a booth and offer a game (or games) for the children to play and prizes to win or snack foods to give away.  A "booth" can be a canopy or simply a table and chairs that can be provided if I know you need them in advance.  If you would like your organization to participate in this event\, please let me know by Thursday\, September 15th to reserve your space.  \n\n \n\nSecond\, we are also looking for financial sponsors.  We would love to give away door prizes again this year\, and we would like to serve frito pies and ice cream or root beer floats.  If you would like to help sponsor our event\, checks can be mailed to the address listed below.  Sponsorship includes logo on the flyer\, mention on Facebook ad\, and public acknowledgement during our event. \n\nPlease contact: \n\nOfficer Stephanie Diaz\n\nsdiaz@aptx.gov\n\n600 Cleveland Blvd\, Aransas Pass\, TX 78336
X-ALT-DESC;FMTTYPE=text/html:<span style="font-family:arial\;">National Night Out 2022&nbsp\;<span style="color: rgb(5\, 5\, 5)\; font-size: 15px\; background-color: rgb(255\, 255\, 255)\;">Event by&nbsp\;</span><span style="font-weight: 600\; color: rgb(5\, 5\, 5)\; font-size: 15px\; background-color: rgb(255\, 255\, 255)\; animation-name: none !important\; transition-property: none !important\;"><a class="qi72231t nu7423ey n3hqoq4p r86q59rh b3qcqh3k fq87ekyn bdao358l fsf7x5fv rse6dlih s5oniofx m8h3af8h l7ghb35v kjdc1dyq kmwttqpk srn514ro oxkhqvkx rl78xhln nch0832m cr00lzj9 rn8ck1ys s3jn8y49 icdlwmnq cxfqmxzd pbevjfx6 innypi6y" href="https://www.facebook.com/AransasPassPD" role="link" style="cursor: pointer\; text-decoration-line: none\; outline: none\; list-style: none\; border-width: 0px\; border-style: initial\; border-color: initial\; box-sizing: border-box\; text-align: inherit\; margin: 0px\; padding: 0px\; background-color: transparent\; -webkit-tap-highlight-color: transparent\; display: inline\; touch-action: manipulation\; font-family: inherit\; animation-name: none !important\; transition-property: none !important\;" tabindex="0">Aransas Pass Police Department</a></span></span><br />\n<br />\n<span style="font-size:14px\;">First\, we would love to have representatives from your group set up a booth and offer a game (or games) for the children to play and prizes to win or snack foods to give away.&nbsp\; A &quot\;booth&quot\; can be a canopy or simply a table and chairs that can be provided if I know you need them in advance.&nbsp\; If you would like your organization to participate in this event\, please let me know by Thursday\, September 15th to reserve your space.&nbsp\;&nbsp\;<br />\n&nbsp\;<br />\nSecond\, we are also looking for financial sponsors.&nbsp\; We would love to give away door prizes again this year\, and we would like to serve frito pies and ice cream or root beer floats.&nbsp\; If you would like to help sponsor our event\, checks can be mailed to the address listed below.&nbsp\; Sponsorship includes logo on the flyer\, mention on Facebook ad\, and public acknowledgement during our event.&nbsp\;</span><br />\n<span style="font-family:arial\;"><span style="font-size:12.0pt\;"><strong><u>Please contact:&nbsp\;</u></strong><br />\nOfficer Stephanie Diaz<br />\n<a href="mailto:sdiaz@aptx.gov" target="_blank">sdiaz@aptx.gov</a></span><br />\n<span style="font-size:12px\;"><span style="color: rgb(32\, 33\, 36)\; background-color: rgb(255\, 255\, 255)\;">600 Cleveland Blvd\, Aransas Pass\, TX 78336</span></span></span>
LOCATION:National Night Out 2022 will be held at the Aransas Pass Aquatics Center. All are invited. Like previous years\, we have a huge event planned. 400 E Johnson Ave. Aransas Pass\, Tx. 78336
UID:e.1295.7327
SEQUENCE:3
DTSTAMP:20260423T195507Z
URL:https://events.gtswebdesign.com/events/details/national-night-out-2022-7327
END:VEVENT

END:VCALENDAR
