BEGIN:VCALENDAR
VERSION:2.0
PRODID:-//ChamberMaster//Event Calendar 2.0//EN
METHOD:PUBLISH
X-PUBLISHED-TTL:P3D
REFRESH-INTERVAL:P3D
CALSCALE:GREGORIAN
BEGIN:VEVENT
DTSTART:20211023T160000Z
DTEND:20211023T200000Z
X-MICROSOFT-CDO-ALLDAYEVENT:FALSE
SUMMARY:Moose Lodge #2063 Open House
DESCRIPTION:Founder's Day Open House.\n\nFree event open to the public.\n\nFun-Food-Games.\n\nBring the kids for free fun filled family time!!\n\n	Moon-Walk\n	Corn-Hole\n	Jenga\n	Hot Dogs\n	Burgers\n	Door Prizes\n	Music\n	Ident A Kid Kits\n	Senior Kits
X-ALT-DESC;FMTTYPE=text/html:<span style="font-size:14px\;"><span style="font-family:arial\;"><span style="color: rgb(5\, 5\, 5)\;">Founder&#39\;s Day Open House.</span><br style="color: rgb(5\, 5\, 5)\; font-family: &quot\;Segoe UI Historic&quot\;\, &quot\;Segoe UI&quot\;\, Helvetica\, Arial\, sans-serif\; font-size: 15px\; animation-name: none !important\; transition-property: none !important\;" />\n<span style="color: rgb(5\, 5\, 5)\;">Free event open to the public.</span><br style="color: rgb(5\, 5\, 5)\; font-family: &quot\;Segoe UI Historic&quot\;\, &quot\;Segoe UI&quot\;\, Helvetica\, Arial\, sans-serif\; font-size: 15px\; animation-name: none !important\; transition-property: none !important\;" />\n<span style="color: rgb(5\, 5\, 5)\;">Fun-Food-Games.</span><br style="color: rgb(5\, 5\, 5)\; font-family: &quot\;Segoe UI Historic&quot\;\, &quot\;Segoe UI&quot\;\, Helvetica\, Arial\, sans-serif\; font-size: 15px\; animation-name: none !important\; transition-property: none !important\;" />\n<span style="color: rgb(5\, 5\, 5)\;">Bring the kids for free fun filled family time!!</span></span></span>\n<ul>\n	<li><span style="font-size:14px\;"><span style="font-family:arial\;">Moon-Walk</span></span></li>\n	<li><span style="font-size:14px\;"><span style="font-family:arial\;">Corn-Hole</span></span></li>\n	<li><span style="font-size:14px\;"><span style="font-family:arial\;">Jenga</span></span></li>\n	<li><span style="font-size:14px\;"><span style="font-family:arial\;">Hot Dogs</span></span></li>\n	<li><span style="font-size:14px\;"><span style="font-family:arial\;">Burgers</span></span></li>\n	<li><span style="font-size:14px\;"><span style="font-family:arial\;">Door Prizes</span></span></li>\n	<li><span style="font-size:14px\;"><span style="font-family:arial\;">Music</span></span></li>\n	<li><span style="font-size:14px\;"><span style="font-family:arial\;">Ident A Kid Kits</span></span></li>\n	<li><span style="font-size:14px\;"><span style="font-family:arial\;">Senior Kits</span></span></li>\n</ul>\n
LOCATION:2540 FM 2725 Aransas Pass\, TX 78336
UID:e.1295.7235
SEQUENCE:3
DTSTAMP:20260424T123928Z
URL:https://events.gtswebdesign.com/events/details/moose-lodge-2063-open-house-7235
END:VEVENT

END:VCALENDAR
