BEGIN:VCALENDAR
VERSION:2.0
PRODID:-//ChamberMaster//Event Calendar 2.0//EN
METHOD:PUBLISH
X-PUBLISHED-TTL:P3D
REFRESH-INTERVAL:P3D
CALSCALE:GREGORIAN
BEGIN:VEVENT
DTSTART;VALUE=DATE:20231225
DTEND;VALUE=DATE:20231226
TRANSP:TRANSPARENT
X-MICROSOFT-CDO-ALLDAYEVENT:TRUE
SUMMARY:Merry Christmas & Happy Holidays - Chamber Hours
DESCRIPTION:Merry Christmas & Happy Holidays.\n\nThe chamber will be closed for Christmas Friday December 22 - Monday December 25\, 2023\, and will resume normal business hours Tuesday December 26\, 2023.
X-ALT-DESC;FMTTYPE=text/html:Merry Christmas &amp\; Happy Holidays.<br />\nThe chamber will be closed for Christmas Friday December 22 - Monday December 25\, 2023\, and will resume normal business hours Tuesday December 26\, 2023.
LOCATION:
UID:e.1295.8061
SEQUENCE:3
DTSTAMP:20260422T222925Z
URL:https://events.gtswebdesign.com/events/details/merry-christmas-happy-holidays-chamber-hours-8061
END:VEVENT

END:VCALENDAR
