BEGIN:VCALENDAR
VERSION:2.0
PRODID:-//ChamberMaster//Event Calendar 2.0//EN
METHOD:PUBLISH
X-PUBLISHED-TTL:P3D
REFRESH-INTERVAL:P3D
CALSCALE:GREGORIAN
BEGIN:VEVENT
DTSTART:20230501T160000Z
DTEND:20230501T162000Z
X-MICROSOFT-CDO-ALLDAYEVENT:FALSE
SUMMARY:Member of the Month - Texas Pride Sports Bar & Grill
DESCRIPTION:Join us in recognizing Texas Pride Sports Bar & Grill as Member of the Month for valuable contributions to the community through the Aransas Pass Chamber of Commerce.\n\nMonday May 1 @ 11AM
X-ALT-DESC;FMTTYPE=text/html:<span style="color: rgb(67\, 68\, 67)\; font-family: arial\; font-size: 14px\; background-color: rgb(255\, 255\, 255)\;">Join us in recognizing Texas Pride Sports Bar &amp\; Grill as Member of the Month for valuable contributions to the community through the Aransas Pass Chamber of Commerce.<br />\nMonday May 1 @ 11AM</span>
LOCATION:Texas Pride Sports Bar & Grill 3792 FM 1069 Aransas Pass\, TX 78336
UID:e.1295.7472
SEQUENCE:3
DTSTAMP:20260423T085113Z
URL:https://events.gtswebdesign.com/events/details/member-of-the-month-texas-pride-sports-bar-grill-7472
END:VEVENT

END:VCALENDAR
