BEGIN:VCALENDAR
VERSION:2.0
PRODID:-//ChamberMaster//Event Calendar 2.0//EN
METHOD:PUBLISH
X-PUBLISHED-TTL:P3D
REFRESH-INTERVAL:P3D
CALSCALE:GREGORIAN
BEGIN:VEVENT
DTSTART:20230411T153000Z
DTEND:20230411T155000Z
X-MICROSOFT-CDO-ALLDAYEVENT:FALSE
SUMMARY:Member of the Month - Sleep Inn & Suites
DESCRIPTION:Join us in recognizing Sleep Inn & Suites as Member of the Month for valuable contributions to the community through the Aransas Pass Chamber of Commerce.\n\nTuesday April 11\, 2023 @ 10:30AM
X-ALT-DESC;FMTTYPE=text/html:<span style="color: rgb(67\, 68\, 67)\; font-family: arial\; font-size: 14px\; background-color: rgb(255\, 255\, 255)\;">Join us in recognizing Sleep Inn &amp\; Suites as Member of the Month for valuable contributions to the community through the Aransas Pass Chamber of Commerce.<br />\nTuesday April 11\, 2023 @ 10:30AM</span>
LOCATION:Sleep Inn & Suites 2810 TX-361 Ingleside\, TX 78362
UID:e.1295.7438
SEQUENCE:3
DTSTAMP:20260423T103045Z
URL:https://events.gtswebdesign.com/events/details/member-of-the-month-sleep-inn-suites-7438
END:VEVENT

END:VCALENDAR
