BEGIN:VCALENDAR
VERSION:2.0
PRODID:-//ChamberMaster//Event Calendar 2.0//EN
METHOD:PUBLISH
X-PUBLISHED-TTL:P3D
REFRESH-INTERVAL:P3D
CALSCALE:GREGORIAN
BEGIN:VEVENT
DTSTART:20230103T173000Z
DTEND:20230103T180000Z
X-MICROSOFT-CDO-ALLDAYEVENT:FALSE
SUMMARY:Member of the Month - Candlewood Suites Aransas Pass
DESCRIPTION:Join us in recognizing Candlewood Suites as Member of the Month for valuable contributions to the community through the Aransas Pass Chamber of Commerce.
X-ALT-DESC;FMTTYPE=text/html:<span style="color: rgb(51\, 51\, 51)\; font-size: 13px\; font-family: arial\;"><span style="font-size: 14px\;"><span class="JsGRdQ" style="color: rgb(67\, 68\, 67)\;">Join us in recognizing Candlewood Suites as Member of the Month for valuable contributions to the community through the Aransas Pass Chamber of Commerce.</span></span></span>
LOCATION:501 E Goodnight Ave. Aransas Pass\, TX 78336
UID:e.1295.7371
SEQUENCE:3
DTSTAMP:20260423T152929Z
URL:https://events.gtswebdesign.com/events/details/member-of-the-month-candlewood-suites-aransas-pass-7371
END:VEVENT

END:VCALENDAR
