BEGIN:VCALENDAR
VERSION:2.0
PRODID:-//ChamberMaster//Event Calendar 2.0//EN
METHOD:PUBLISH
X-PUBLISHED-TTL:P3D
REFRESH-INTERVAL:P3D
CALSCALE:GREGORIAN
BEGIN:VEVENT
DTSTART:20230209T200000Z
DTEND:20230209T223000Z
X-MICROSOFT-CDO-ALLDAYEVENT:FALSE
SUMMARY:Meet the Buyers: City of Corpus Christi
DESCRIPTION:Join Del Mar College Procurement Technical Assistance Center as officials from the Contracts and Procurement Department of the City of Corpus Christi detail procurement policy\, the registration process\, and the Supplier Portal which is the online bidding system used to obtain Bids\, RFQ's\, and RFP's. Registration is FREE and afterwards\; you will have the opportunity to meet buyers from: *Parks & Recreation *Asset Management - Facilities & Fleet *Engineering - FMAC *Neighborhood Services - Code Enforcement *Fire
X-ALT-DESC;FMTTYPE=text/html:Join Del Mar College Procurement Technical Assistance Center as officials from the Contracts and Procurement Department of the City of Corpus Christi detail procurement policy\, the registration process\, and the Supplier Portal which is the online bidding system used to obtain Bids\, RFQ&#39\;s\, and RFP&#39\;s. Registration is FREE and afterwards\; you will have the opportunity to meet buyers from: *Parks &amp\; Recreation *Asset Management - Facilities &amp\; Fleet *Engineering - FMAC *Neighborhood Services - Code Enforcement *Fire
LOCATION:The American Bank Center 1901 N. Shoreline Blvd.\, Rooms C101\, C102 Corpus Christi\, TX 78401
UID:e.1295.7407
SEQUENCE:3
DTSTAMP:20260423T134630Z
URL:https://events.gtswebdesign.com/events/details/meet-the-buyers-city-of-corpus-christi-7407
END:VEVENT

END:VCALENDAR
