BEGIN:VCALENDAR
VERSION:2.0
PRODID:-//ChamberMaster//Event Calendar 2.0//EN
METHOD:PUBLISH
X-PUBLISHED-TTL:P3D
REFRESH-INTERVAL:P3D
CALSCALE:GREGORIAN
BEGIN:VEVENT
DTSTART:20221015T143000Z
DTEND:20221015T160000Z
X-MICROSOFT-CDO-ALLDAYEVENT:FALSE
SUMMARY:Lighthouse Lakes Park Clean-up 9:30am
DESCRIPTION:Anyone is welcome to come help with cleaning up Lighthouse Lakes Park in Aransas Pass\, TX\, put on by the Redford Ranch Foundation\, Hook and Ladder Brew Pub\, and Al with the Youtube BBQ cooking show "Eat More Vegans"!\n\nWe are going to clean up the area of Lighthouse Lakes trails Park and the opposite shoreline across TX-361. afterwards we will all head in the direction of Hook and Ladder Brew Pub\, where barbecue\, prepared by Al with "Eat More Vegans" will be provided.\n\nYour ticket to a BBQ meal at Hook and Ladder Brew Pub is a wrist band\, which will be provided when you turn in a bag of trash at any of the designated pick up points along TX-361 by the RRF staff.\n\nWe look forward to meeting you all and hope to see as many folks from Aransas Pass as possible!\n\n\n\nPlease click here for more information.
X-ALT-DESC;FMTTYPE=text/html:<div class="m8h3af8h l7ghb35v kjdc1dyq kmwttqpk gh25dzvf" style="overflow-wrap: break-word\; margin: 0px\; font-family: &quot\;Segoe UI Historic&quot\;\, &quot\;Segoe UI&quot\;\, Helvetica\, Arial\, sans-serif\; color: rgb(5\, 5\, 5)\; font-size: 15px\; background-color: rgb(255\, 255\, 255)\; animation-name: none !important\; transition-property: none !important\;">Anyone is welcome to come help with cleaning up Lighthouse Lakes Park in Aransas Pass\, TX\, put on by the Redford Ranch Foundation\, Hook and Ladder Brew Pub\, and Al with the Youtube BBQ cooking show &ldquo\;Eat More Vegans&rdquo\;!</div>\n\n<div class="l7ghb35v kjdc1dyq kmwttqpk gh25dzvf jikcssrz" style="overflow-wrap: break-word\; margin: 0.5em 0px 0px\; font-family: &quot\;Segoe UI Historic&quot\;\, &quot\;Segoe UI&quot\;\, Helvetica\, Arial\, sans-serif\; color: rgb(5\, 5\, 5)\; font-size: 15px\; background-color: rgb(255\, 255\, 255)\; animation-name: none !important\; transition-property: none !important\;">We are going to clean up the area of Lighthouse Lakes trails Park and the opposite shoreline across TX-361. afterwards we will all head in the direction of Hook and Ladder Brew Pub\, where barbecue\, prepared by Al with &ldquo\;Eat More Vegans&rdquo\; will be provided.</div>\n\n<div class="l7ghb35v kjdc1dyq kmwttqpk gh25dzvf jikcssrz" style="overflow-wrap: break-word\; margin: 0.5em 0px 0px\; font-family: &quot\;Segoe UI Historic&quot\;\, &quot\;Segoe UI&quot\;\, Helvetica\, Arial\, sans-serif\; color: rgb(5\, 5\, 5)\; font-size: 15px\; background-color: rgb(255\, 255\, 255)\; animation-name: none !important\; transition-property: none !important\;">Your ticket to a BBQ meal at Hook and Ladder Brew Pub is a wrist band\, which will be provided when you turn in a bag of trash at any of the designated pick up points along TX-361 by the RRF staff.</div>\n\n<div class="l7ghb35v kjdc1dyq kmwttqpk gh25dzvf jikcssrz" style="overflow-wrap: break-word\; margin: 0.5em 0px 0px\; font-family: &quot\;Segoe UI Historic&quot\;\, &quot\;Segoe UI&quot\;\, Helvetica\, Arial\, sans-serif\; color: rgb(5\, 5\, 5)\; font-size: 15px\; background-color: rgb(255\, 255\, 255)\; animation-name: none !important\; transition-property: none !important\;">We look forward to meeting you all and hope to see as many folks from Aransas Pass as possible!<br />\n<br />\nPlease click <a href="https://www.facebook.com/events/2879685559003375?acontext=%7B%22event_action_history%22%3A[%7B%22surface%22%3A%22group%22%7D%2C%7B%22mechanism%22%3A%22group_featured_unit%22%2C%22surface%22%3A%22group%22%7D]%2C%22ref_notif_type%22%3Anull%7D">here</a> for more information.&nbsp\;&nbsp\;</div>\n
LOCATION:Lighthouse Lakes Park located on the left side of Highway 361\, approximately 5 miles from the HEB in Aransas Pass. Take Business 361 (Wheeler Ave.) to Texas Hwy 361 (follow signs to Port Aransas). - Continue on Hwy 361 over the bridge and out the causeway to the Lighthouse Lakes Paddling Trials Park on the left.
UID:e.1295.7334
SEQUENCE:3
DTSTAMP:20260423T195524Z
URL:https://events.gtswebdesign.com/events/details/lighthouse-lakes-park-clean-up-9-30am-7334
END:VEVENT

END:VCALENDAR
