BEGIN:VCALENDAR
VERSION:2.0
PRODID:-//ChamberMaster//Event Calendar 2.0//EN
METHOD:PUBLISH
X-PUBLISHED-TTL:P3D
REFRESH-INTERVAL:P3D
CALSCALE:GREGORIAN
BEGIN:VEVENT
DTSTART:20221204T000000Z
DTEND:20221204T000000Z
X-MICROSOFT-CDO-ALLDAYEVENT:FALSE
SUMMARY:Lighted Boat Parade
DESCRIPTION:Lighted Boat Parade on Conn Brown Harbor. Parade starts at sundown.\n\nTo enter please come to Chandler's Landing or Dorados Restaurant & Bar to pick up your entry form.
X-ALT-DESC;FMTTYPE=text/html:Lighted Boat Parade on Conn Brown Harbor. Parade starts at sundown.<br />\nTo enter please come to Chandler&#39\;s Landing or Dorados Restaurant &amp\; Bar to pick up your entry form.<br />\n&nbsp\;<br />\n&nbsp\;
LOCATION:Conn Brown Harbor 518 Bigelow Aransas Pass\, TX 78336
UID:e.1295.7357
SEQUENCE:3
DTSTAMP:20260423T181326Z
URL:https://events.gtswebdesign.com/events/details/lighted-boat-parade-7357
END:VEVENT

END:VCALENDAR
