BEGIN:VCALENDAR
VERSION:2.0
PRODID:-//ChamberMaster//Event Calendar 2.0//EN
METHOD:PUBLISH
X-PUBLISHED-TTL:P3D
REFRESH-INTERVAL:P3D
CALSCALE:GREGORIAN
BEGIN:VEVENT
DTSTART:20230426T190000Z
DTEND:20230426T210000Z
X-MICROSOFT-CDO-ALLDAYEVENT:FALSE
SUMMARY:Library Week Social - Ed & Hazel Richmond Public Library
DESCRIPTION:Please join the Library Board and Library Staff in Celebrating National Library Week!\n\nApril 26\, 2023 @ 2-4pm
X-ALT-DESC;FMTTYPE=text/html:Please join the Library Board and Library Staff in Celebrating National Library Week!<br />\nApril 26\, 2023 @ 2-4pm
LOCATION:Ed & Hazel Richmond Public Library 110 N. Lamont Aransas Pass\, TX 78336
UID:e.1295.7439
SEQUENCE:3
DTSTAMP:20260423T102428Z
URL:https://events.gtswebdesign.com/events/details/library-week-social-ed-hazel-richmond-public-library-7439
END:VEVENT

END:VCALENDAR
