BEGIN:VCALENDAR
VERSION:2.0
PRODID:-//ChamberMaster//Event Calendar 2.0//EN
METHOD:PUBLISH
X-PUBLISHED-TTL:P3D
REFRESH-INTERVAL:P3D
CALSCALE:GREGORIAN
BEGIN:VEVENT
DTSTART:20230520T153000Z
DTEND:20230520T163000Z
X-MICROSOFT-CDO-ALLDAYEVENT:FALSE
SUMMARY:Lecture: The Foolish Lieutenant - Third Coast Squadron CAF Museum
DESCRIPTION:The "Foolish Lieutenant" will be the subject for the May 20th CAF Lecture at McCampbell Airport. \n\nBob Edlin became famous in WWII for being responsible for 800 Germans surrendering to him without firing a single shot. This incredible feat as well as his other experiences in Europe will be given by his good friend Mark Lincecum\, who will share an audio tape he recorded of Bob's war missions. Mr Lincecum is retired and living in Sugar Land\, previously he and his family resided in Corpus Christi and Burton Texas.
X-ALT-DESC;FMTTYPE=text/html:The &quot\;Foolish Lieutenant&quot\; will be the subject for the May 20th CAF Lecture at McCampbell Airport.&nbsp\;<br />\nBob Edlin became famous in WWII for being responsible for 800 Germans surrendering to him without firing a single shot. This incredible feat as well as his other experiences in Europe will be given by his good friend Mark Lincecum\, who will share an audio tape he recorded of Bob&#39\;s war missions. Mr Lincecum is retired and living in Sugar Land\, previously he and his family resided in Corpus Christi and Burton Texas.
LOCATION:McCampbell-Porter Airport 3201 FM 3512\, H11 Aransas Pass\, TX 78336
UID:e.1295.7471
SEQUENCE:3
DTSTAMP:20260423T084627Z
URL:https://events.gtswebdesign.com/events/details/lecture-the-foolish-lieutenant-third-coast-squadron-caf-museum-7471
END:VEVENT

END:VCALENDAR
