BEGIN:VCALENDAR
VERSION:2.0
PRODID:-//ChamberMaster//Event Calendar 2.0//EN
METHOD:PUBLISH
X-PUBLISHED-TTL:P3D
REFRESH-INTERVAL:P3D
CALSCALE:GREGORIAN
BEGIN:VEVENT
DTSTART:20221206T230000Z
DTEND:20221207T010000Z
X-MICROSOFT-CDO-ALLDAYEVENT:FALSE
SUMMARY:Jingle & Mingle hosted by Candlewood Suites Aransas Pass 5-7PM
DESCRIPTION:Jingle & Mingle\, Games\, Raffles\, Cocktails\, Hot Cocoa\, Food.
X-ALT-DESC;FMTTYPE=text/html:Jingle &amp\; Mingle\, Games\, Raffles\, Cocktails\, Hot Cocoa\, Food.
LOCATION:501 E Goodnight Ave. Aransas Pass\, TX
UID:e.1295.7355
SEQUENCE:3
DTSTAMP:20260423T165420Z
URL:https://events.gtswebdesign.com/events/details/jingle-mingle-hosted-by-candlewood-suites-aransas-pass-5-7pm-7355
END:VEVENT

END:VCALENDAR
