BEGIN:VCALENDAR
VERSION:2.0
PRODID:-//ChamberMaster//Event Calendar 2.0//EN
METHOD:PUBLISH
X-PUBLISHED-TTL:P3D
REFRESH-INTERVAL:P3D
CALSCALE:GREGORIAN
BEGIN:VEVENT
DTSTART;VALUE=DATE:20210417
DTEND;VALUE=DATE:20210418
TRANSP:TRANSPARENT
X-MICROSOFT-CDO-ALLDAYEVENT:TRUE
SUMMARY:Ingleside Rotary Club Fishing Tournament
DESCRIPTION:Boat | Pier | Shore | Wade | Surf | Jetty | Kayak\n\n\n	Weigh-In will take place at Cove Park next to the public boat ramp from 2:00 pm- 4:00 pm on April 17\, 2021\n	$100 per Team (No more than 4 members per team)\n	Snacks and drinks will be served at the weigh-in\n	Entry fees may be turned into the Ingleside ISD Administration Building by Thursday\, April 15\, 2021 by 4:00 pm.\n	Proceeds benefit the Ingleside Rotary Club Scholarship fund. \n	For more information contact Heather Waugh-Hurta (361) 463-8702 or Chris Fontenot (936) 615-2469.\n\nTo register click Here CLICK HERE.
X-ALT-DESC;FMTTYPE=text/html:<p><span style="font-size:16px\;"><strong>Boat | Pier | Shore | Wade | Surf | Jetty | Kayak</strong></span></p>\n\n<ul>\n	<li><span style="font-size:14px\;"><span style="color:#444444\;">Weigh-In will take place at Cove Park next to the public boat ramp from 2:00 pm- 4:00 pm on April 17\, 2021</span></span></li>\n	<li><span style="font-size:14px\;"><span style="font-size:14px\;"><span style="color:#444444\;">$100 per Team (No more than 4 members per team)</span></span></span></li>\n	<li><span style="font-size:14px\;"><span style="font-size:14px\;"><span style="font-size:14px\;"><span style="color:#444444\;">Snacks and drinks will be served at the weigh-in</span></span></span></span></li>\n	<li><span style="font-size:14px\;"><span style="font-size:14px\;"><span style="font-size:14px\;"><span style="font-size:14px\;"><span style="color:#444444\;">Entry fees may be turned into the Ingleside ISD Administration Building by Thursday\, April 15\, 2021 by 4:00 pm.</span></span></span></span></span></li>\n	<li><span style="font-size:14px\;"><span style="font-size:14px\;"><span style="font-size:14px\;">Proceeds benefit the Ingleside Rotary Club Scholarship fund. </span></span></span></li>\n	<li><span style="font-size:14px\;"><span style="font-size:14px\;"><span style="font-size:14px\;">For more information contact Heather Waugh-Hurta (361) 463-8702 or Chris Fontenot (936) 615-2469.</span></span></span></li>\n</ul>\n<span style="font-size:18px\;"><span style="font-family:arial\;"><strong>To register click Here <a href="https://sites.google.com/a/inglesideisd.org/fishing-tourney/how-to-register">CLICK HERE</a>.&nbsp\;</strong></span></span>
LOCATION:Cove Park in Ingleside\, TX
UID:e.1295.7158
SEQUENCE:3
DTSTAMP:20260425T000348Z
URL:https://events.gtswebdesign.com/events/details/ingleside-rotary-club-fishing-tournament-7158
END:VEVENT

END:VCALENDAR
