BEGIN:VCALENDAR
VERSION:2.0
PRODID:-//ChamberMaster//Event Calendar 2.0//EN
METHOD:PUBLISH
X-PUBLISHED-TTL:P3D
REFRESH-INTERVAL:P3D
CALSCALE:GREGORIAN
BEGIN:VEVENT
DTSTART:20240215T220000Z
DTEND:20240216T000000Z
X-MICROSOFT-CDO-ALLDAYEVENT:FALSE
SUMMARY:ICA Radio - 107.3 Que Buena Ribbon Cutting Mixer
DESCRIPTION:You're Invited! ICA Radio - 107.3 Que Buena Ribbon Cutting Mixer.\n\nPresented by Mind Your Business.
X-ALT-DESC;FMTTYPE=text/html:You&#39\;re Invited! ICA Radio - 107.3 Que Buena Ribbon Cutting Mixer.<br />\nPresented by Mind Your Business.\n<p>&nbsp\;</p>\n<br />\n&nbsp\;
LOCATION:ICA Radio 615 N Upper Broadway Corpus Christi\, TX 78401
UID:e.1295.8069
SEQUENCE:3
DTSTAMP:20260422T205437Z
URL:https://events.gtswebdesign.com/events/details/ica-radio-107-3-que-buena-ribbon-cutting-mixer-8069
END:VEVENT

END:VCALENDAR
