BEGIN:VCALENDAR
VERSION:2.0
PRODID:-//ChamberMaster//Event Calendar 2.0//EN
METHOD:PUBLISH
X-PUBLISHED-TTL:P3D
REFRESH-INTERVAL:P3D
CALSCALE:GREGORIAN
BEGIN:VEVENT
DTSTART:20221201T233000Z
DTEND:20221202T013000Z
X-MICROSOFT-CDO-ALLDAYEVENT:FALSE
SUMMARY:Holiday Block Party
DESCRIPTION:Dream Team Realtors\, Olde Towne Espresso and Cafe\, Pook's Pub\, and\n\nB You Tiful Salon cordially invite you to their Inaugural Holiday Block Party\n\n*Please bring canned/non-perishable food items.
X-ALT-DESC;FMTTYPE=text/html:Dream Team Realtors\, Olde Towne Espresso and Cafe\, Pook&#39\;s Pub\, and<br />\nB You Tiful Salon cordially invite you to their Inaugural Holiday Block Party<br />\n*Please bring canned/non-perishable food items.
LOCATION:410 S Commercial St. Aransas Pass\, TX 78336
UID:e.1295.7360
SEQUENCE:3
DTSTAMP:20260423T164910Z
URL:https://events.gtswebdesign.com/events/details/holiday-block-party-7360
END:VEVENT

END:VCALENDAR
