BEGIN:VCALENDAR
VERSION:2.0
PRODID:-//ChamberMaster//Event Calendar 2.0//EN
METHOD:PUBLISH
X-PUBLISHED-TTL:P3D
REFRESH-INTERVAL:P3D
CALSCALE:GREGORIAN
BEGIN:VEVENT
DTSTART;VALUE=DATE:20240101
DTEND;VALUE=DATE:20240102
TRANSP:TRANSPARENT
X-MICROSOFT-CDO-ALLDAYEVENT:TRUE
SUMMARY:Happy New Year! - office closed
DESCRIPTION:Happy New Year! \n\nChamber office will be closed Monday January 1\, 2024\n\n resuming normal business hours Tuesday January 2\, 2024
X-ALT-DESC;FMTTYPE=text/html:Happy New Year!&nbsp\;<br />\nChamber office will be closed Monday January 1\, 2024<br />\n&nbsp\;resuming normal business hours Tuesday January 2\, 2024
LOCATION:
UID:e.1295.8063
SEQUENCE:3
DTSTAMP:20260422T221310Z
URL:https://events.gtswebdesign.com/events/details/happy-new-year-office-closed-8063
END:VEVENT

END:VCALENDAR
