BEGIN:VCALENDAR
VERSION:2.0
PRODID:-//ChamberMaster//Event Calendar 2.0//EN
METHOD:PUBLISH
X-PUBLISHED-TTL:P3D
REFRESH-INTERVAL:P3D
CALSCALE:GREGORIAN
BEGIN:VEVENT
DTSTART:20231028T150000Z
DTEND:20231028T200000Z
X-MICROSOFT-CDO-ALLDAYEVENT:FALSE
SUMMARY:Halloween Market
DESCRIPTION:Halloween Market\n\nTrick or Treat! Come in costume and trick or treat at the vendor booths and Dolphin Alley Shops! \n\nanniebellart@gmail.com - anniebellart.square.site
X-ALT-DESC;FMTTYPE=text/html:Halloween Market<br />\nTrick or Treat! Come in costume and trick or treat at the vendor booths and Dolphin Alley Shops!&nbsp\;<br />\nanniebellart@gmail.com - anniebellart.square.site
LOCATION:130 W Goodnight Ave. Aransas Pass\, TX 78336
UID:e.1295.8041
SEQUENCE:3
DTSTAMP:20260423T010435Z
URL:https://events.gtswebdesign.com/events/details/halloween-market-8041
END:VEVENT

END:VCALENDAR
