BEGIN:VCALENDAR
VERSION:2.0
PRODID:-//ChamberMaster//Event Calendar 2.0//EN
METHOD:PUBLISH
X-PUBLISHED-TTL:P3D
REFRESH-INTERVAL:P3D
CALSCALE:GREGORIAN
BEGIN:VEVENT
DTSTART:20230328T200000Z
DTEND:20230328T202000Z
X-MICROSOFT-CDO-ALLDAYEVENT:FALSE
SUMMARY:Grand Opening Ribbon Cutting - Cajun K's Boutique
DESCRIPTION:Join us for a Ribbon Cutting and Grand Opening Celebration of Cajun K's Boutique.\n\nComplimentary crawfish boil plates will be served with purchase.\n\nMarch 28\, 2023\n\n3:00 PM
X-ALT-DESC;FMTTYPE=text/html:<span style="color: rgb(51\, 51\, 51)\; font-family: sans-serif\, Arial\, Verdana\, &quot\;Trebuchet MS&quot\;\; font-size: 13px\; background-color: rgb(255\, 255\, 255)\;">Join us for a Ribbon Cutting and Grand Opening Celebration of Cajun K&#39\;s Boutique.<br />\nComplimentary crawfish boil plates will be served with purchase.<br />\nMarch 28\, 2023<br />\n3:00 PM</span>
LOCATION:Cajun K's Boutique 541 W Cleveland Blvd. Aransas Pass\, TX 78336 361-226-3010
UID:e.1295.7435
SEQUENCE:3
DTSTAMP:20260423T134239Z
URL:https://events.gtswebdesign.com/events/details/grand-opening-ribbon-cutting-cajun-k-s-boutique-7435
END:VEVENT

END:VCALENDAR
