BEGIN:VCALENDAR
VERSION:2.0
PRODID:-//ChamberMaster//Event Calendar 2.0//EN
METHOD:PUBLISH
X-PUBLISHED-TTL:P3D
REFRESH-INTERVAL:P3D
CALSCALE:GREGORIAN
BEGIN:VEVENT
DTSTART:20220702T000000Z
DTEND:20220703T030000Z
X-MICROSOFT-CDO-ALLDAYEVENT:FALSE
SUMMARY:Freedom Fest 2022
DESCRIPTION:Steve & Lulu's At The Rialto's first annual Freedom Fest\, celebrating those who give their all to protect our country.\n\nFriday\, July 1st\, enjoy the self proclaimed "Country Boy"\, EJ Mathews\, beginning at 7 PM. Saturday\, July 2nd\, we begin the day with food truck specials\, games\, and door prizes! Amy N' Me will take the stage at 6:30 PM.\n\nJoin us after for the annual fireworks show at Conn Brown Harbor!
X-ALT-DESC;FMTTYPE=text/html:<p>Steve &amp\; Lulu&#39\;s At The Rialto&#39\;s first annual Freedom Fest\, celebrating those who give their all to protect our country.</p>\n\n<p>Friday\, July 1st\, enjoy the self proclaimed &quot\;Country Boy&quot\;\, EJ Mathews\, beginning at 7 PM. Saturday\, July 2nd\, we begin the day with food truck specials\, games\, and door prizes! Amy N&#39\; Me will take the stage at 6:30 PM.</p>\n\n<p>Join us after for the annual fireworks show at Conn Brown Harbor!</p>\n
LOCATION:Rialto Theater 327 S Commercial St\, Aransas Pass\, TX 78336
UID:e.1295.7295
SEQUENCE:3
DTSTAMP:20260424T003745Z
URL:https://events.gtswebdesign.com/events/details/freedom-fest-2022-7295
END:VEVENT

END:VCALENDAR
