BEGIN:VCALENDAR
VERSION:2.0
PRODID:-//ChamberMaster//Event Calendar 2.0//EN
METHOD:PUBLISH
X-PUBLISHED-TTL:P3D
REFRESH-INTERVAL:P3D
CALSCALE:GREGORIAN
BEGIN:VEVENT
DTSTART:20231209T160000Z
DTEND:20231209T210000Z
X-MICROSOFT-CDO-ALLDAYEVENT:FALSE
SUMMARY:Free Holiday Family Day - Art Museum of South Texas
DESCRIPTION:H-E-B\, the Junior League of Corpus Christi and numerous community partners bring the Christmas Tree Forest to the Art Museum of South Texas each year to give students\, teachers and families in the Coastal Bend the opportunity to foster a love of reading and to promote critical thinking and creativity through exploration of award-winning literature and illustrations. WHAT TO EXPECT --H-E-B Helping Here Goodie Bags --Art Activities --Photos with SANTA! --Live Entertainment --and more
X-ALT-DESC;FMTTYPE=text/html:H-E-B\, the Junior League of Corpus Christi and numerous community partners bring the Christmas Tree Forest to the Art Museum of South Texas each year to give students\, teachers and families in the Coastal Bend the opportunity to foster a love of reading and to promote critical thinking and creativity through exploration of award-winning literature and illustrations. WHAT TO EXPECT --H-E-B Helping Here Goodie Bags --Art Activities --Photos with SANTA! --Live Entertainment --and more&hellip\;
LOCATION:The Art Museum of South Texas
UID:e.1295.8054
SEQUENCE:3
DTSTAMP:20260422T223335Z
URL:https://events.gtswebdesign.com/events/details/free-holiday-family-day-art-museum-of-south-texas-8054
END:VEVENT

END:VCALENDAR
