BEGIN:VCALENDAR
VERSION:2.0
PRODID:-//ChamberMaster//Event Calendar 2.0//EN
METHOD:PUBLISH
X-PUBLISHED-TTL:P3D
REFRESH-INTERVAL:P3D
CALSCALE:GREGORIAN
BEGIN:VEVENT
DTSTART;VALUE=DATE:20221022
DTEND;VALUE=DATE:20221023
TRANSP:TRANSPARENT
X-MICROSOFT-CDO-ALLDAYEVENT:TRUE
SUMMARY:FITsique 5K Halloween Run
DESCRIPTION:It's a 5K Fun Run\n\nHalloween Theme\n\nLocated at Conn Brown Harbor Aransas Pass - Walk Track\n\nStart Line will be located near Boat Ramp Parking Lot\n\n  $40 for Registration\n\n  Map of Run will be Provided\n\n  Online Registration Available\n\n  Can Pay inside FITsique Training with Cash or Credit Card\n\n  5K FITsique Medals will be given at Completion of Race\n\n  Run Times will be Documented & Given to Anyone Interested\n\n  Shirts Provided if Signed Up before Deadline of October 1st\n\nRun begins Promptly at 8am\n\nArrive 30 min Early to Check in
X-ALT-DESC;FMTTYPE=text/html:<div class="xdj266r x11i5rnm xat24cr x1mh8g0r x1vvkbs x126k92a" style="margin: 0px\; white-space: pre-wrap\; overflow-wrap: break-word\; font-family: &quot\;Segoe UI Historic&quot\;\, &quot\;Segoe UI&quot\;\, Helvetica\, Arial\, sans-serif\; color: rgb(5\, 5\, 5)\; font-size: 15px\;">\n<div dir="auto" style="font-family: inherit\;">\n<div class="xdj266r x11i5rnm xat24cr x1mh8g0r x1vvkbs" style="margin: 0px\; overflow-wrap: break-word\; font-family: &quot\;Segoe UI Historic&quot\;\, &quot\;Segoe UI&quot\;\, Helvetica\, Arial\, sans-serif\; color: rgb(5\, 5\, 5)\; font-size: 15px\;"><span style="font-size:14px\;"><span style="font-family:arial\;">It&rsquo\;s a 5K Fun Run<br />\nHalloween Theme<br />\nLocated at Conn Brown Harbor Aransas Pass - Walk Track<br />\nStart Line will be located near Boat Ramp Parking Lot</span></span></div>\n\n<div class="x11i5rnm xat24cr x1mh8g0r x1vvkbs xtlvy1s" style="margin: 0.5em 0px 0px\; overflow-wrap: break-word\; font-family: &quot\;Segoe UI Historic&quot\;\, &quot\;Segoe UI&quot\;\, Helvetica\, Arial\, sans-serif\; color: rgb(5\, 5\, 5)\; font-size: 15px\;"><span style="font-size:14px\;"><span style="font-family:arial\;">&bull\; $40 for Registration<br />\n&bull\; Map of Run will be Provided<br />\n&bull\; Online Registration Available<br />\n&bull\; Can Pay inside FITsique Training with Cash or Credit Card<br />\n&bull\; 5K FITsique Medals will be given at Completion of Race<br />\n&bull\; Run Times will be Documented &amp\; Given to Anyone Interested<br />\n&bull\; Shirts Provided if Signed Up before Deadline of October 1st</span></span></div>\n\n<div class="x11i5rnm xat24cr x1mh8g0r x1vvkbs xtlvy1s" style="margin: 0.5em 0px 0px\; overflow-wrap: break-word\; font-family: &quot\;Segoe UI Historic&quot\;\, &quot\;Segoe UI&quot\;\, Helvetica\, Arial\, sans-serif\; color: rgb(5\, 5\, 5)\; font-size: 15px\;"><span style="font-size:14px\;"><span style="font-family:arial\;">Run begins Promptly at 8am<br />\nArrive 30 min Early to Check in</span></span></div>\n</div>\n</div>\n
LOCATION:Conn Brown Harbor
UID:e.1295.7347
SEQUENCE:3
DTSTAMP:20260423T195406Z
URL:https://events.gtswebdesign.com/events/details/fitsique-5k-halloween-run-7347
END:VEVENT

END:VCALENDAR
