BEGIN:VCALENDAR
VERSION:2.0
PRODID:-//ChamberMaster//Event Calendar 2.0//EN
METHOD:PUBLISH
X-PUBLISHED-TTL:P3D
REFRESH-INTERVAL:P3D
CALSCALE:GREGORIAN
BEGIN:VEVENT
DTSTART:20230415T115000Z
DTEND:20230415T210000Z
X-MICROSOFT-CDO-ALLDAYEVENT:FALSE
SUMMARY:Fishing Tournament - Ingleside Rotary Club
DESCRIPTION:Ingleside Rotary Club Fishing Tournament\n\nSaturday\, April 15\, 2023\n\nQuestions: For more information call Troy Mircovich @ 361.790.6260.\n\nProceeds: Ingleside Rotary Scholarship Fund.\n\nWeigh-in: will take place at Cove Park Next to the Public Boat Ramp from 2:00 pm - 4:00 pm on April 15\, 2023. \n\nCost is: $200 per team. (No more than 4 members per team). \n\nSnacks and drinks will be served at the weigh-in.
X-ALT-DESC;FMTTYPE=text/html:<p class="zfr3Q CDt4Ke " dir="ltr" style="box-sizing: border-box\; font-variant-ligatures: none\; margin: 15px 0px 0px 30pt\; outline: none\; position: relative\; text-decoration-line: inherit\; color: rgb(33\, 33\, 33)\; font-size: 16px\; font-family: &quot\;Open Sans&quot\;\, sans-serif\; line-height: 1.75\; text-indent: 0pt\; padding-left: 0pt\;"><span style="font-family:arial\;"><span style="font-size:14px\;"><span class="jgG6ef C9DxTc " style="box-sizing: border-box\; font-style: italic\; font-variant-ligatures: normal\; font-variant-numeric: normal\; font-variant-east-asian: normal\; font-variant-alternates: normal\; font-weight: 700\; vertical-align: baseline\;">Ingleside Rotary&nbsp\;Club Fishing Tournament<br />\nSaturday\, April 15\, 2023<br />\nQuestions:</span><span class="jgG6ef C9DxTc " style="box-sizing: border-box\; font-style: italic\; font-variant-ligatures: normal\; font-variant-numeric: normal\; font-variant-east-asian: normal\; font-variant-alternates: normal\; vertical-align: baseline\;">&nbsp\;For more information call&nbsp\;</span><span class="jgG6ef C9DxTc " style="box-sizing: border-box\; font-style: italic\; vertical-align: baseline\;">Troy Mircovich</span><span class="jgG6ef C9DxTc " style="box-sizing: border-box\; font-style: italic\; font-variant-ligatures: normal\; font-variant-numeric: normal\; font-variant-east-asian: normal\; font-variant-alternates: normal\; vertical-align: baseline\;">&nbsp\;@ 361.</span><span class="jgG6ef C9DxTc " style="box-sizing: border-box\; font-style: italic\; vertical-align: baseline\;">790</span><span class="jgG6ef C9DxTc " style="box-sizing: border-box\; font-style: italic\; font-variant-ligatures: normal\; font-variant-numeric: normal\; font-variant-east-asian: normal\; font-variant-alternates: normal\; vertical-align: baseline\;">.</span><span class="jgG6ef C9DxTc " style="box-sizing: border-box\; font-style: italic\; vertical-align: baseline\;">6260.</span><br />\n<span class="jgG6ef C9DxTc " style="box-sizing: border-box\; font-style: italic\; font-variant-ligatures: normal\; font-variant-numeric: normal\; font-variant-east-asian: normal\; font-variant-alternates: normal\; font-weight: 700\; vertical-align: baseline\;">Proceeds:</span><span class="jgG6ef C9DxTc " style="box-sizing: border-box\; font-style: italic\; font-variant-ligatures: normal\; font-variant-numeric: normal\; font-variant-east-asian: normal\; font-variant-alternates: normal\; vertical-align: baseline\;">&nbsp\;Ingleside Rotary Scholarship Fund.</span><br />\n<span class="jgG6ef C9DxTc " style="box-sizing: border-box\; font-style: italic\; font-variant-ligatures: normal\; font-variant-numeric: normal\; font-variant-east-asian: normal\; font-variant-alternates: normal\; font-weight: 700\; vertical-align: baseline\;">Weigh-in:</span><span class="jgG6ef C9DxTc " style="box-sizing: border-box\; font-style: italic\; font-variant-ligatures: normal\; font-variant-numeric: normal\; font-variant-east-asian: normal\; font-variant-alternates: normal\; vertical-align: baseline\;">&nbsp\;will take place at Cove Park Next to the Public Boat Ramp from 2:00 pm - 4:00 pm on April&nbsp\;</span><span class="jgG6ef C9DxTc " style="box-sizing: border-box\; font-style: italic\; vertical-align: baseline\;">15</span><span class="jgG6ef C9DxTc " style="box-sizing: border-box\; font-style: italic\; font-variant-ligatures: normal\; font-variant-numeric: normal\; font-variant-east-asian: normal\; font-variant-alternates: normal\; vertical-align: baseline\;">\, 202</span><span class="jgG6ef C9DxTc " style="box-sizing: border-box\; font-style: italic\; vertical-align: baseline\;">3</span><span class="jgG6ef C9DxTc " style="box-sizing: border-box\; font-style: italic\; font-variant-ligatures: normal\; font-variant-numeric: normal\; font-variant-east-asian: normal\; font-variant-alternates: normal\; vertical-align: baseline\;">.&nbsp\;</span><br />\n<span class="jgG6ef C9DxTc " style="box-sizing: border-box\; font-style: italic\; font-variant-ligatures: normal\; font-variant-numeric: normal\; font-variant-east-asian: normal\; font-variant-alternates: normal\; font-weight: 700\; vertical-align: baseline\;">Cost is:</span><span class="jgG6ef C9DxTc " style="box-sizing: border-box\; font-style: italic\; font-variant-ligatures: normal\; font-variant-numeric: normal\; font-variant-east-asian: normal\; font-variant-alternates: normal\; vertical-align: baseline\;">&nbsp\;$</span><span class="jgG6ef C9DxTc " style="box-sizing: border-box\; font-style: italic\; vertical-align: baseline\;">2</span><span class="jgG6ef C9DxTc " style="box-sizing: border-box\; font-style: italic\; font-variant-ligatures: normal\; font-variant-numeric: normal\; font-variant-east-asian: normal\; font-variant-alternates: normal\; vertical-align: baseline\;">00 per team. (No more than 4 members per team).&nbsp\;</span><br />\n<span class="jgG6ef C9DxTc " style="box-sizing: border-box\; font-style: italic\; font-variant-ligatures: normal\; font-variant-numeric: normal\; font-variant-east-asian: normal\; font-variant-alternates: normal\; font-weight: 700\; vertical-align: baseline\;">Snacks and drinks</span><span class="jgG6ef C9DxTc " style="box-sizing: border-box\; font-style: italic\; font-variant-ligatures: normal\; font-variant-numeric: normal\; font-variant-east-asian: normal\; font-variant-alternates: normal\; vertical-align: baseline\;">&nbsp\;will be served at the weigh-in.</span></span></span></p>\n
LOCATION:Ingleside Boat Ramp - Cove Park Highway 1069 Ingleside\, TX 78362
UID:e.1295.7434
SEQUENCE:3
DTSTAMP:20260423T120232Z
URL:https://events.gtswebdesign.com/events/details/fishing-tournament-ingleside-rotary-club-7434
END:VEVENT

END:VCALENDAR
