BEGIN:VCALENDAR
VERSION:2.0
PRODID:-//ChamberMaster//Event Calendar 2.0//EN
METHOD:PUBLISH
X-PUBLISHED-TTL:P3D
REFRESH-INTERVAL:P3D
CALSCALE:GREGORIAN
BEGIN:VEVENT
DTSTART:20220926T163000Z
DTEND:20220926T180000Z
X-MICROSOFT-CDO-ALLDAYEVENT:FALSE
SUMMARY:First Responder and City Worker Lunch - We appreciate you!
DESCRIPTION:We Cordially Invite you for\n\n                        First Reponders and City Worker\n\n                                               Lunch\n\n                              We appreciate all you do!!!  \n\n            Sponsored by Butterchurn and Crossroads Church. \n\n                        FOOD.  FUN.  DOOR PRIZES.\n\n                                     Please RSVP
X-ALT-DESC;FMTTYPE=text/html:<span style="font-size:16px\;">&nbsp\; &nbsp\; &nbsp\; &nbsp\; &nbsp\; &nbsp\; &nbsp\; &nbsp\; &nbsp\; &nbsp\; &nbsp\; &nbsp\; &nbsp\; &nbsp\; &nbsp\;We Cordially Invite you for<br />\n<strong><em>&nbsp\; &nbsp\; &nbsp\; &nbsp\; &nbsp\; &nbsp\; &nbsp\; &nbsp\; &nbsp\; &nbsp\; &nbsp\; &nbsp\; First Reponders and City Worker</em></strong><br />\n&nbsp\; &nbsp\; &nbsp\; &nbsp\; &nbsp\; &nbsp\; &nbsp\; &nbsp\; &nbsp\; &nbsp\; &nbsp\; &nbsp\; &nbsp\; &nbsp\; &nbsp\; &nbsp\; &nbsp\; &nbsp\; &nbsp\; &nbsp\; &nbsp\; &nbsp\; &nbsp\; &nbsp\;Lunch<br />\n&nbsp\; &nbsp\; &nbsp\; &nbsp\; &nbsp\; &nbsp\; &nbsp\; &nbsp\; &nbsp\; &nbsp\; &nbsp\; &nbsp\; &nbsp\; &nbsp\; &nbsp\; <strong><u>We appreciate all you do!!!&nbsp\;&nbsp\;</u></strong><br />\n&nbsp\; &nbsp\; &nbsp\; &nbsp\; &nbsp\; &nbsp\; Sponsored by Butterchurn and Crossroads Church.&nbsp\;<br />\n&nbsp\; &nbsp\; &nbsp\; &nbsp\; &nbsp\; &nbsp\; &nbsp\; &nbsp\; &nbsp\; &nbsp\; &nbsp\; &nbsp\; FOOD.&nbsp\; FUN.&nbsp\; DOOR PRIZES.<br />\n&nbsp\; &nbsp\; &nbsp\; &nbsp\; &nbsp\; &nbsp\; &nbsp\; &nbsp\; &nbsp\; &nbsp\; &nbsp\; &nbsp\; &nbsp\; &nbsp\; &nbsp\; &nbsp\; &nbsp\; &nbsp\; &nbsp\;Please RSVP</span><br />\n<br />\n&nbsp\;
LOCATION:Butterchurn Restaurant 1275 Hwy 35 Bypass\, Aransas Pass\, Tx. 78336
UID:e.1295.7333
SEQUENCE:3
DTSTAMP:20260423T213431Z
URL:https://events.gtswebdesign.com/events/details/first-responder-and-city-worker-lunch-we-appreciate-you-7333
END:VEVENT

END:VCALENDAR
